BEGIN:VCALENDAR
VERSION:2.0
PRODID:-//The Pennsylvania Defense Institute - ECPv6.15.20//NONSGML v1.0//EN
CALSCALE:GREGORIAN
METHOD:PUBLISH
X-WR-CALNAME:The Pennsylvania Defense Institute
X-ORIGINAL-URL:https://padefense.org
X-WR-CALDESC:Events for The Pennsylvania Defense Institute
REFRESH-INTERVAL;VALUE=DURATION:PT1H
X-Robots-Tag:noindex
X-PUBLISHED-TTL:PT1H
BEGIN:VTIMEZONE
TZID:UTC
BEGIN:STANDARD
TZOFFSETFROM:+0000
TZOFFSETTO:+0000
TZNAME:UTC
DTSTART:20230101T000000
END:STANDARD
END:VTIMEZONE
BEGIN:VEVENT
DTSTART;TZID=UTC:20240319T120000
DTEND;TZID=UTC:20240319T133000
DTSTAMP:20260426T035402
CREATED:20240209T173751Z
LAST-MODIFIED:20240222T125203Z
UID:4662-1710849600-1710855000@padefense.org
SUMMARY:PDI LUNCH TIME WEBINAR - TUESDAY\, MARCH 19\, 2023 @ 12:00 P.M. VIA ZOOM - CONSULTING ENGINEERS & SCIENTISTS presents "Utilizing Experts in Defense Matters"
DESCRIPTION:Consulting Engineers & Scientists is presenting “Utilizing Experts in Defense Matters”.  The presentation will include:  Premises Liability Cases – Ronald J. Cohen\, P.E. (Civil Engineer); Accident Reconstruction – Paul D. Doyle  (Mechanical Engineer); and Construction Cases – Harry J. Dales (Civil Engineer).  This promises to be a great primer regarding the use of an expert in several types of cases.  Do not miss what promises to be an excellent presentation. \n\n\n\n\n\n\n\n\n\n\n>> Download The PDF Registration
URL:https://padefense.org/event/pdi-lunch-time-webinar-tuesday-march-19-2023-1200-p-m-via-zoom-consulting-engineers-scientists-presents-utilizing-experts-in-defense-matters/
CATEGORIES:Webinar
END:VEVENT
END:VCALENDAR