BEGIN:VCALENDAR
VERSION:2.0
PRODID:-//The Pennsylvania Defense Institute - ECPv6.15.20//NONSGML v1.0//EN
CALSCALE:GREGORIAN
METHOD:PUBLISH
X-WR-CALNAME:The Pennsylvania Defense Institute
X-ORIGINAL-URL:https://padefense.org
X-WR-CALDESC:Events for The Pennsylvania Defense Institute
REFRESH-INTERVAL;VALUE=DURATION:PT1H
X-Robots-Tag:noindex
X-PUBLISHED-TTL:PT1H
BEGIN:VTIMEZONE
TZID:UTC
BEGIN:STANDARD
TZOFFSETFROM:+0000
TZOFFSETTO:+0000
TZNAME:UTC
DTSTART:20230101T000000
END:STANDARD
END:VTIMEZONE
BEGIN:VEVENT
DTSTART;TZID=UTC:20240322T120000
DTEND;TZID=UTC:20240322T133000
DTSTAMP:20260426T035256
CREATED:20240209T174406Z
LAST-MODIFIED:20240222T125410Z
UID:4664-1711108800-1711114200@padefense.org
SUMMARY:PDI LUNCH TIME WEBINAR - FRIDAY\, MARCH 22\, 2024 @ 12:00 P.M. VIA ZOOM - Minnesota Lawyers Mutual Insurance Co. presents "Ethics Social Media Engagement for Lawyers"
DESCRIPTION:PDI Platinum Sponsor Minnesota Lawyers Mutual Insurance Company will be presenting “Ethical Social Media Engagement for Lawyers”.  This will be a live Webinar and one (1) Ethics Credit will be provided.  The presentation will be made by Todd C. Scott\, VP Risk Management of MLM.  Please be on the lookout for more information on this Ethics CLE for those who need an Ethics CLE Credit in Group 1. \n\n\n\n\n\n\n\n\n\n\n>> Download The PDF Registration
URL:https://padefense.org/event/pdi-lunch-time-webinar-friday-march-22-2024-1200-p-m-via-zoom-minnesota-lawyers-mutual-insurance-co-presents-and-ethics-cle-tba/
CATEGORIES:Webinar
END:VEVENT
END:VCALENDAR