BEGIN:VCALENDAR
VERSION:2.0
PRODID:-//The Pennsylvania Defense Institute - ECPv6.15.20//NONSGML v1.0//EN
CALSCALE:GREGORIAN
METHOD:PUBLISH
X-ORIGINAL-URL:https://padefense.org
X-WR-CALDESC:Events for The Pennsylvania Defense Institute
REFRESH-INTERVAL;VALUE=DURATION:PT1H
X-Robots-Tag:noindex
X-PUBLISHED-TTL:PT1H
BEGIN:VTIMEZONE
TZID:UTC
BEGIN:STANDARD
TZOFFSETFROM:+0000
TZOFFSETTO:+0000
TZNAME:UTC
DTSTART:20230101T000000
END:STANDARD
END:VTIMEZONE
BEGIN:VEVENT
DTSTART;TZID=UTC:20240404T120000
DTEND;TZID=UTC:20240404T120000
DTSTAMP:20260426T024253
CREATED:20240215T011618Z
LAST-MODIFIED:20250516T201251Z
UID:4674-1712232000-1712232000@padefense.org
SUMMARY:PDI EAST DISTRICT LAW STUDENT CONFERENCE - DREXEL LAW SCHOOL
DESCRIPTION:PDI and PADC will provide a panel of defense attorneys to meet with Law Students from Drexell Law School to discuss career opportunities in the defense of civil lawsuits.  Pizza and refreshments will be provided
URL:https://padefense.org/event/pdi-east-district-law-student-conference-drexel-law-school/
CATEGORIES:Law Student Conference
END:VEVENT
BEGIN:VEVENT
DTSTART;TZID=UTC:20240404T120000
DTEND;TZID=UTC:20240404T133000
DTSTAMP:20260426T024253
CREATED:20240215T012155Z
LAST-MODIFIED:20240215T012155Z
UID:4676-1712232000-1712237400@padefense.org
SUMMARY:PDI EAST DISTRICT ROUNDTABLE LAW STUDENT CONFERENCE - DREXEL LAW SCHOOL
DESCRIPTION:PDI and PADC will provide a panel of defense attorneys to meet with Law Students at Drexel University to discuss career opportunities in the defense of civil lawsuits.  Pizza and refreshments will be provided.
URL:https://padefense.org/event/pdi-east-district-roundtable-law-student-conference-drexel-law-school/
CATEGORIES:Law Student Conference
END:VEVENT
END:VCALENDAR