BEGIN:VCALENDAR
VERSION:2.0
PRODID:-//The Pennsylvania Defense Institute - ECPv6.15.20//NONSGML v1.0//EN
CALSCALE:GREGORIAN
METHOD:PUBLISH
X-WR-CALNAME:The Pennsylvania Defense Institute
X-ORIGINAL-URL:https://padefense.org
X-WR-CALDESC:Events for The Pennsylvania Defense Institute
REFRESH-INTERVAL;VALUE=DURATION:PT1H
X-Robots-Tag:noindex
X-PUBLISHED-TTL:PT1H
BEGIN:VTIMEZONE
TZID:UTC
BEGIN:STANDARD
TZOFFSETFROM:+0000
TZOFFSETTO:+0000
TZNAME:UTC
DTSTART:20230101T000000
END:STANDARD
END:VTIMEZONE
BEGIN:VEVENT
DTSTART;TZID=UTC:20240410T100000
DTEND;TZID=UTC:20240410T140000
DTSTAMP:20260426T024130
CREATED:20240329T151726Z
LAST-MODIFIED:20240329T153010Z
UID:4707-1712743200-1712757600@padefense.org
SUMMARY:PDI EASTERN DISTRICT/PADC - PARTICIPATES IN ALEX'S LEMONADE STAND CHARITABLE EVENT
DESCRIPTION:PDI and PADC will again participate in the Alex’s Lemonade Stand charity event on Wednesday\, April 10\, 2024 at Drexel University between 10:00 a.m. and 2:00 p.m. at Drexel University and Philadelphia City Hall.  There is a need of volunteers for the following: \nDrexel Table 1 – 10:00 a.m. to 12:00 p.m. (3 volunteers) \nDrexel Table 2 – 10:00 a.m. to 12:00 p.m. (3 volunteers) \nCity Hall Table – 10:00 a.m. to 12:00 p.m. (3 volunteers) \nDrexel Table 1 – 12:00 p.m. to 2:00 p.m. (3 volunteers) \nDrexel Table 2 – 12:00 p.m. to 2:00 p.m. (3 volunteers) \nCity Hall Table – 12:00 p.m. to 2:00 p.m. (3 volunteers)  \nPLEASE VOLUNTEER TO SUPPORT A GOOD CAUSE \nPDI thanks Tiffany Turner\, Esquire\, Dickie McCamey\, for organizing this worthwhile charitable event.  If you would like to volunteer\, please email Tiffany Turner at TTurner@dmclaw.com . \nAlex’s Lemonade Stand Overview \nAlex’s Lemonade Stand Foundation (ALSF) is changing the lives of children with cancer by funding impactful research\, raising awareness\, supporting families and empowering everyone to help cure childhood cancer. Every day\, over 1\,000 children worldwide are diagnosed with childhood cancer. Yet\, childhood cancer research is consistently underfunded as compared to other types of cancer research. It is up to all of us to fund research and find cures\, so that someday these children are cured. ALSF started with one lemonade stand\, hosted by our founder Alexandra “Alex” Scott in her front yard which raised $2\,000. Alex was just 4 years old and battling neuroblastoma when she asked to donate the money so doctors can find cures for all children battling cancer. Alex’s Lemonade Stand Foundation (ALSF) is changing the lives of children with cancer by funding impactful research\, raising awareness\, supporting families and empowering everyone to help cure childhood cancer. Every day\, over 1\,000 children worldwide are diagnosed with childhood cancer. Yet\, childhood cancer research is consistently underfunded as compared to other types of cancer research. It is up to all of us to fund research and find cures\, so that someday these children are cured. ALSF started with one lemonade stand\, hosted by our founder Alexandra “Alex” Scott in her front yard which raised $2\,000. Alex was just 4 years old and battling neuroblastoma when she asked to donate the money so doctors can find cures for all children battling cancer.  Since that first stand\, ALSF has funded more than 1\,000 cutting-edge research projects at nearly 150 institutions in the U.S. and Canada and supported families through much-needed programs like Travel For Care that helps make cutting-edge treatments accessible to children. ALSF and its supporters are propelling the world towards a future without childhood cancer. From hosting stands and events to joining the One Cup at a Time Club\, everyone can make a difference and help find cures for childhood cancer. \nWatch for more information on this great charity and how you can help support this important cause.  PLEASE VOLUNTEER!!
URL:https://padefense.org/event/pdi-eastern-district-padc-participates-in-alexs-lemonade-stand-charitable-event/
CATEGORIES:Charity Event
END:VEVENT
END:VCALENDAR