BEGIN:VCALENDAR
VERSION:2.0
PRODID:-//The Pennsylvania Defense Institute - ECPv6.15.20//NONSGML v1.0//EN
CALSCALE:GREGORIAN
METHOD:PUBLISH
X-WR-CALNAME:The Pennsylvania Defense Institute
X-ORIGINAL-URL:https://padefense.org
X-WR-CALDESC:Events for The Pennsylvania Defense Institute
REFRESH-INTERVAL;VALUE=DURATION:PT1H
X-Robots-Tag:noindex
X-PUBLISHED-TTL:PT1H
BEGIN:VTIMEZONE
TZID:UTC
BEGIN:STANDARD
TZOFFSETFROM:+0000
TZOFFSETTO:+0000
TZNAME:UTC
DTSTART:20230101T000000
END:STANDARD
END:VTIMEZONE
BEGIN:VEVENT
DTSTART;TZID=UTC:20240419T120000
DTEND;TZID=UTC:20240419T140000
DTSTAMP:20260426T024130
CREATED:20240223T195638Z
LAST-MODIFIED:20240325T122236Z
UID:4684-1713528000-1713535200@padefense.org
SUMMARY:PDI LUNCH TIME WEBINAR - FRIDAY\, APRIL 19\, 2024 @ 12:00 P.M. - 1 1/2 HOURS - "The Best Mediation Tips You've Never Heard"
DESCRIPTION:Honorable Emil Giordano (Retired)\, Honorable James S. Miller (Retired) and Richard B. Lord\, Esquire\, very experienced Neutrals/Mediators/Arbitrators\, will provide a very interesting and informative presentation providing “The Best Mediation Tips You’ve Never Heard”  Mark  you calendars and plan on attending this Webinar and hear from very experienced mediators and obtain information on mediation that you may not have ever heard before.  MARK YOUR CALENSARS AND WATCH FOR REGISTRATION INFORMATION. \n\n\n\n\n\n\n\n\n\n\n>> Download The PDF Registration
URL:https://padefense.org/event/pdi-lunch-time-webinar-friday-april-19-2024-1200-p-m-1-1-2-hours-the-best-mediation-tips-youve-never-heard/
CATEGORIES:Webinar
END:VEVENT
END:VCALENDAR