BEGIN:VCALENDAR
VERSION:2.0
PRODID:-//The Pennsylvania Defense Institute - ECPv6.15.20//NONSGML v1.0//EN
CALSCALE:GREGORIAN
METHOD:PUBLISH
X-WR-CALNAME:The Pennsylvania Defense Institute
X-ORIGINAL-URL:https://padefense.org
X-WR-CALDESC:Events for The Pennsylvania Defense Institute
REFRESH-INTERVAL;VALUE=DURATION:PT1H
X-Robots-Tag:noindex
X-PUBLISHED-TTL:PT1H
BEGIN:VTIMEZONE
TZID:UTC
BEGIN:STANDARD
TZOFFSETFROM:+0000
TZOFFSETTO:+0000
TZNAME:UTC
DTSTART:20240101T000000
END:STANDARD
END:VTIMEZONE
BEGIN:VEVENT
DTSTART;TZID=UTC:20250917T120000
DTEND;TZID=UTC:20250917T130000
DTSTAMP:20260425T021907
CREATED:20250407T191553Z
LAST-MODIFIED:20250826T140717Z
UID:4960-1758110400-1758114000@padefense.org
SUMMARY:PDI LUNCH TIME WEBINAR - WEDNESDAY\, SEPTEMBER 17\, 2025 - MICHAEL E. GOLDBERG\, CONSULTING ENGINEERS & SCIENTISTS PRESENTS "The Role of Industrial Hygiene & Safety in Litigation"
DESCRIPTION:Michael E. Goldberg\, CIH\, CSP\, a Certified Industrial Hygienist and Certified Safety Professional\, from Consulting Engineers & Scientists\, Inc.\, will discuss the role of a safety professional in the evaluation of safety processes and procedures as they relate to injuries and hazard exposure.  Using case examples\, Mr. Goldberg will discuss how the individual facts of the incident\, the nature of the injury and the Safety Professional’s investigation can bring all facts together to determine responsibility of various parties and potential liability.  This is an important presentation that will provide attorneys another view in determining whether or not there is potential responsibility and/or liability.  Do not miss this Webinar.  REGISTER NOW!!! \nDownload the PDF form here >>
URL:https://padefense.org/event/pdi-lunch-time-webinar-wednesday-september-17-2025-michael-e-goldberg-consulting-engineers-scientists-presents-the-role-of-industrial-hygiene-safety-in-litigation/
CATEGORIES:Webinar
END:VEVENT
END:VCALENDAR