BEGIN:VCALENDAR
VERSION:2.0
PRODID:-//The Pennsylvania Defense Institute - ECPv6.15.20//NONSGML v1.0//EN
CALSCALE:GREGORIAN
METHOD:PUBLISH
X-ORIGINAL-URL:https://padefense.org
X-WR-CALDESC:Events for The Pennsylvania Defense Institute
REFRESH-INTERVAL;VALUE=DURATION:PT1H
X-Robots-Tag:noindex
X-PUBLISHED-TTL:PT1H
BEGIN:VTIMEZONE
TZID:UTC
BEGIN:STANDARD
TZOFFSETFROM:+0000
TZOFFSETTO:+0000
TZNAME:UTC
DTSTART:20240101T000000
END:STANDARD
END:VTIMEZONE
BEGIN:VEVENT
DTSTART;TZID=UTC:20251002T120000
DTEND;TZID=UTC:20251002T130000
DTSTAMP:20260425T005449
CREATED:20250827T184526Z
LAST-MODIFIED:20250827T184526Z
UID:5067-1759406400-1759410000@padefense.org
SUMMARY:PDI LUNCH TIME WEBINAR - CONSUMER FINANCE DEFENSE COMMITTEE WEBINAR
DESCRIPTION:John Berry\, Esquire\, Dinsmore & Shohl\, will present a webinar on FCRA identity theft issues and the impact identity theft claims have n data furnishers’ investigation and potential coverage issues related to these claims.  Be on the lookout for registration materials that will be sent via PDI Listserv in September.
URL:https://padefense.org/event/pdi-lunch-time-webinar-consumer-finance-defense-committee-webinar/
CATEGORIES:Webinar
END:VEVENT
END:VCALENDAR