BEGIN:VCALENDAR
VERSION:2.0
PRODID:-//The Pennsylvania Defense Institute - ECPv6.15.20//NONSGML v1.0//EN
CALSCALE:GREGORIAN
METHOD:PUBLISH
X-ORIGINAL-URL:https://padefense.org
X-WR-CALDESC:Events for The Pennsylvania Defense Institute
REFRESH-INTERVAL;VALUE=DURATION:PT1H
X-Robots-Tag:noindex
X-PUBLISHED-TTL:PT1H
BEGIN:VTIMEZONE
TZID:UTC
BEGIN:STANDARD
TZOFFSETFROM:+0000
TZOFFSETTO:+0000
TZNAME:UTC
DTSTART:20250101T000000
END:STANDARD
END:VTIMEZONE
BEGIN:VEVENT
DTSTART;TZID=UTC:20260217T120000
DTEND;TZID=UTC:20260217T140000
DTSTAMP:20260424T192236
CREATED:20251110T221410Z
LAST-MODIFIED:20260124T005252Z
UID:5113-1771329600-1771336800@padefense.org
SUMMARY:PDI LUNCH TIME WEBINAR - PRODUCTS LIABILITY COMMITTEE PRESENTS "Recent Product Liability Pretrial and Trial Experience in Pennsylvania (State and Federal Courts)
DESCRIPTION:PDI Products Liability Committee will present “Recent Product Liability Pretrial and Trial Experience n Pennsylvania ( State and Federal Cases)”.  A well seasoned panel experience in products liability cases will discuss the trial of product liability cases in the wake of Tincher  v. Omega-Flex.  The panel will be moderated by William “Bill” Ricci\, Esquire\, Ricci Tyrrell Johnson & Grey\, and include: C. Scott Toomey\, Esquire\, Littleton Joyce Ughetta & Kelly\, Bradley Remick\, Esquire\, Marshall\, Dennehey\, Warner\, Coleman & Goggin\, James M. Beck\, Esquire\, Reed Smith\, Dennis Ziemba\, Esquire\, Bowman Brooke. The panel will discuss actual trial and pretrial (in limine) experiences with: ffers of Industry Standards and Government Regulations Compliance Evidence in the aftermath of Sullivan v. Werner and the success/failure of defense counsel’s requests to have trial judges charge juries that it is their role to determine whether a product was unreasonably dangerous at the time of its sale as a new product.  Do not miss this valuable webinar. It is anticipated that this will be 1.5 PACLE substantive credits. \nDownload the PDF form here >>
URL:https://padefense.org/event/pdi-lunch-time-webinar-products-liability-committee-presents-update-on-products-liability-law-and-pdi-suggested-jury-instructions/
CATEGORIES:Webinar
END:VEVENT
BEGIN:VEVENT
DTSTART;TZID=UTC:20260217T170000
DTEND;TZID=UTC:20260217T183000
DTSTAMP:20260424T192236
CREATED:20260112T170747Z
LAST-MODIFIED:20260112T170747Z
UID:5163-1771347600-1771353000@padefense.org
SUMMARY:PDI/PADC LAW STUDENT CAREER CONFERENCE - Drexel School of Law
DESCRIPTION:A panel of attorneys representing PDI and PADC will meet with law students at Drexel School of Law to discuss the practice of law and possible career paths in the defense of cases on behalf of insurance companies\, corporations\, and individuals as a viable alternative.  The panel will answer questions raised by the students and give a practical perspective of the practice of law.
URL:https://padefense.org/event/pdi-padc-law-student-career-conference-drexel-school-of-law/
CATEGORIES:Law Student Conference
END:VEVENT
END:VCALENDAR