BEGIN:VCALENDAR
VERSION:2.0
PRODID:-//The Pennsylvania Defense Institute - ECPv6.15.20//NONSGML v1.0//EN
CALSCALE:GREGORIAN
METHOD:PUBLISH
X-WR-CALNAME:The Pennsylvania Defense Institute
X-ORIGINAL-URL:https://padefense.org
X-WR-CALDESC:Events for The Pennsylvania Defense Institute
REFRESH-INTERVAL;VALUE=DURATION:PT1H
X-Robots-Tag:noindex
X-PUBLISHED-TTL:PT1H
BEGIN:VTIMEZONE
TZID:UTC
BEGIN:STANDARD
TZOFFSETFROM:+0000
TZOFFSETTO:+0000
TZNAME:UTC
DTSTART:20250101T000000
END:STANDARD
END:VTIMEZONE
BEGIN:VEVENT
DTSTART;TZID=UTC:20260224T080000
DTEND;TZID=UTC:20260224T170000
DTSTAMP:20260424T180638
CREATED:20260223T221118Z
LAST-MODIFIED:20260223T221300Z
UID:5189-1771920000-1771952400@padefense.org
SUMMARY:PDI WEST DISTRICT - LAW STUDENT CAREER CONFERENCE - UNIVERSITY OF PITTSBURGH - Tuesday\, February 24\, 2026 @ 12:00 P.M.
DESCRIPTION:PDI West District will host a Law Student Career Luncheon and Conference for law students at the University of Pittsburgh School of Law on Tuesday\, February 24\, 2026 @ 12:00 P.M.  A panel of attorneys will meet with law students and discuss the practice of law with an emphasis on the civil defense practice.  This gives the law students information regarding a career alternative on the civil defense of matters.
URL:https://padefense.org/event/pdi-west-district-law-student-career-conference-university-of-pittsburgh-tuesday-february-24-2026-1200-p-m/
CATEGORIES:Law Student Conference
END:VEVENT
END:VCALENDAR