BEGIN:VCALENDAR
VERSION:2.0
PRODID:-//The Pennsylvania Defense Institute - ECPv6.15.20//NONSGML v1.0//EN
CALSCALE:GREGORIAN
METHOD:PUBLISH
X-WR-CALNAME:The Pennsylvania Defense Institute
X-ORIGINAL-URL:https://padefense.org
X-WR-CALDESC:Events for The Pennsylvania Defense Institute
REFRESH-INTERVAL;VALUE=DURATION:PT1H
X-Robots-Tag:noindex
X-PUBLISHED-TTL:PT1H
BEGIN:VTIMEZONE
TZID:UTC
BEGIN:STANDARD
TZOFFSETFROM:+0000
TZOFFSETTO:+0000
TZNAME:UTC
DTSTART:20250101T000000
END:STANDARD
END:VTIMEZONE
BEGIN:VEVENT
DTSTART;TZID=UTC:20260312T120000
DTEND;TZID=UTC:20260312T130000
DTSTAMP:20260424T180639
CREATED:20251125T190904Z
LAST-MODIFIED:20260211T141257Z
UID:5145-1773316800-1773320400@padefense.org
SUMMARY:PDI LUNCH TIME WEBINAR - "Protecting Minors or Enforcing Contracts: Enforceability of Parent-Signed Arbitration Agreements in Pennsylvania"
DESCRIPTION:Nicole Cramer\, Esquire\, Sweeney & Sheehan\, will focus on the Pennsylvania Supreme Court’s recent decision in Santiago v. Philly Trampoline Park\, LLC\, Nos. 24 EAP 2023\, 24 EAP 2023\, 2025 Pa. LEXIS 1501 (September 25\, 2025)\, where the Court decided as a matter of first impression whether a parent can bind their minor child to litigate their claims in arbitration when they sign an agreement on behalf of their minor child.  She will also discuss any cases in which there is a reliance upon Santiago that exist at the time of the presentation.  WATCH OUT FOR REGISTRATION MATERIALS TO BE PROVIDED IN THE FUTURE. \nDownload the PDF form here >>
URL:https://padefense.org/event/pdi-lunch-time-webinar-protecting-minors-or-enforcing-contracts-enforceability-of-parent-signed-arbitration-agreements-in-pennsylvania/
CATEGORIES:Webinar
END:VEVENT
END:VCALENDAR