BEGIN:VCALENDAR
VERSION:2.0
PRODID:-//The Pennsylvania Defense Institute - ECPv6.15.20//NONSGML v1.0//EN
CALSCALE:GREGORIAN
METHOD:PUBLISH
X-WR-CALNAME:The Pennsylvania Defense Institute
X-ORIGINAL-URL:https://padefense.org
X-WR-CALDESC:Events for The Pennsylvania Defense Institute
REFRESH-INTERVAL;VALUE=DURATION:PT1H
X-Robots-Tag:noindex
X-PUBLISHED-TTL:PT1H
BEGIN:VTIMEZONE
TZID:UTC
BEGIN:STANDARD
TZOFFSETFROM:+0000
TZOFFSETTO:+0000
TZNAME:UTC
DTSTART:20250101T000000
END:STANDARD
END:VTIMEZONE
BEGIN:VEVENT
DTSTART;TZID=UTC:20260528T080000
DTEND;TZID=UTC:20260528T170000
DTSTAMP:20260424T175416
CREATED:20260324T161357Z
LAST-MODIFIED:20260324T162736Z
UID:5219-1779955200-1779987600@padefense.org
SUMMARY:PDI/PAJ TRIAL ACADEMY - DAY 1 OF INSTRUCTION
DESCRIPTION:PDI and PAJ faculty will great the registrants to begin a full day of education and practice trial skills.  The problem case will have been distributed to the registrants in advance and will be used throughout the Trial Academy.  The instruction and group sessions will involve trial theory and case framing and opening statements.  The afternoon session will include discussion on direct and cross examination with the ability to practice.
URL:https://padefense.org/event/pdi-paj-trial-academy-day-1-of-instruction/
CATEGORIES:Continuing Legal Education
END:VEVENT
END:VCALENDAR