BEGIN:VCALENDAR
VERSION:2.0
PRODID:-//The Pennsylvania Defense Institute - ECPv6.15.20//NONSGML v1.0//EN
CALSCALE:GREGORIAN
METHOD:PUBLISH
X-WR-CALNAME:The Pennsylvania Defense Institute
X-ORIGINAL-URL:https://padefense.org
X-WR-CALDESC:Events for The Pennsylvania Defense Institute
REFRESH-INTERVAL;VALUE=DURATION:PT1H
X-Robots-Tag:noindex
X-PUBLISHED-TTL:PT1H
BEGIN:VTIMEZONE
TZID:UTC
BEGIN:STANDARD
TZOFFSETFROM:+0000
TZOFFSETTO:+0000
TZNAME:UTC
DTSTART:20250101T000000
END:STANDARD
END:VTIMEZONE
BEGIN:VEVENT
DTSTART;TZID=UTC:20260730T080000
DTEND;TZID=UTC:20260730T170000
DTSTAMP:20260424T192737
CREATED:20250827T175314Z
LAST-MODIFIED:20250827T175314Z
UID:5051-1785398400-1785430800@padefense.org
SUMMARY:PDI ANNUAL CLE & CONFERENCE
DESCRIPTION:
URL:https://padefense.org/event/pdi-annual-cle-conference-4/
CATEGORIES:Annual Conference
END:VEVENT
END:VCALENDAR