BEGIN:VCALENDAR
VERSION:2.0
PRODID:-//The Pennsylvania Defense Institute - ECPv6.15.20//NONSGML v1.0//EN
CALSCALE:GREGORIAN
METHOD:PUBLISH
X-WR-CALNAME:The Pennsylvania Defense Institute
X-ORIGINAL-URL:https://padefense.org
X-WR-CALDESC:Events for The Pennsylvania Defense Institute
REFRESH-INTERVAL;VALUE=DURATION:PT1H
X-Robots-Tag:noindex
X-PUBLISHED-TTL:PT1H
BEGIN:VTIMEZONE
TZID:UTC
BEGIN:STANDARD
TZOFFSETFROM:+0000
TZOFFSETTO:+0000
TZNAME:UTC
DTSTART:20210101T000000
END:STANDARD
END:VTIMEZONE
BEGIN:VEVENT
DTSTART;TZID=UTC:20250711T080000
DTEND;TZID=UTC:20250711T120000
DTSTAMP:20260424T181957
CREATED:20240916T210114Z
LAST-MODIFIED:20250516T211013Z
UID:4807-1752220800-1752235200@padefense.org
SUMMARY:PDI ANNUAL CLE AND CONFERENCE
DESCRIPTION:PDI CLE Program at 2025 PDI Annual CLE and Conference – Second Day CLE Program: “Beck’s Legal Update – 2025” – Presenter: James M. Beck\, Esquire\, Reed Smith “AI and Bad Faith Issues” – Presenter: Henry M. Sneath\, Esquire\, Houston Harbaugh “Ethical Decisions Related to Technical Expert Witnesses” – Presenters: Lisa Lallo\, Ph.D.\, P.E.\, CPIT\, EXPONENT\, and Jessica Isaacs\, PhD.\, P.E.\, EXPONENT
URL:https://padefense.org/event/pdi-annual-cle-and-conference-2/
CATEGORIES:Annual Conference
END:VEVENT
BEGIN:VEVENT
DTSTART;TZID=UTC:20250710T080000
DTEND;TZID=UTC:20250710T230000
DTSTAMP:20260424T181957
CREATED:20240916T210017Z
LAST-MODIFIED:20250519T114556Z
UID:4805-1752134400-1752188400@padefense.org
SUMMARY:PDI ANNUAL CLE AND CONFERENCE
DESCRIPTION:PDI CLE Program at 2025 PDI Annual CLE & Conference – First Day CLE Program is AI focused: “Ignorance Is No Excuse: Embracing the AI Revolution in Casualty Claims” – Presenters: Benjamin C. Frommer\, Esquire\, and Heather Norris\, Pennsylvania National Mutual Insurance Co. “AI Litigation: The Current Landscape” – Presenter: Gregory Graham\, Esquire\, Marshall\, Dennehey\, Warner\, Coleman & Goggin “AI for Attorneys in 2025 – AI Legal Applications and Ethical Considerations” – Presenter: Todd Scott\, Esquire\, Minnesota Lawyers Mutual Insurance Company Afternoon Free Time to enjoy the PDI Golf Tournament or the great facilities of the OMNI Bedford Springs Resort and the fantastic food at the evenings President Dinner. \nDownload the PDF form here >>
URL:https://padefense.org/event/pdi-annual-cle-and-conference/
CATEGORIES:Annual Conference
END:VEVENT
BEGIN:VEVENT
DTSTART;TZID=UTC:20250709T180000
DTEND;TZID=UTC:20250709T203000
DTSTAMP:20260424T181957
CREATED:20240916T205921Z
LAST-MODIFIED:20250704T140701Z
UID:4803-1752084000-1752093000@padefense.org
SUMMARY:OPENING EVENTS OF PDI ANNUAL CLE & CONFERENCE AND PDI BOARD MEETING
DESCRIPTION:Opening Social and Networking Events for 2025 PDI Annual CLE & Conference @ OMNI Bedford Springs Resort – Register for the Event and Reserve your Room NOW. Plan on joining the PDI Officers\, Directors and Members at the historical and beautiful OMNI Bedford Springs Resort.  An excellent CLE Program is being planned by this year’s Annual Conference Committee Chair and Executive Vice President – Programming\, Tricia S. Springer\, Esquire\, QVC Group\, along with plenty of enjoyment with the company of your colleagues and the many activities available at the Resort.  This year the highlight of the CLE presentations relate to discussions about the use of AI by lawyers in various areas\, including bad faith issues\, how the insurance industry is using and/or anticipating using AI and how this may impact defense counsel representing the interests of the insurance companies and their insureds\, and ethics issues that are involved in the ongoing advance of the use of AI in the legal community.  This is a very current topic that if it has not yet affected you and your practice\, I very soon may.  Learn about AI and how it will potentially could impact your practice of law. \n\n\n\nIn addition to the educational component of the Annual Conference\, there will be plenty of time to socialize and relax.  Also consider having a family outing at the Resort.  Bedford Springs Resort offers many activities that are family friendly and a wonderful place for a family vacation.  Please consider involving your family in this great event.  The event is planned so that you will have plenty of time for family activities in addition to the social events with your colleagues.  In addition to the educational program\, there will be a golf outing and activities at OMNI Bedford Springs Resort for those non-golfers and family.  There will also be social events/mixers Wednesday evening\, and Thursday evening\, including the President’s Dinner.  There will be plenty of collegial time with old friends\, new friends\, and family throughout the conference. \n\n\n\nRegister your room now to assure that you will have a room at the PDI discounted price.  Last year\, the rooms sold out early.  The Resort gets filled and rooms become unavailable.  So act now.  In order to reserve your room you can book online at:  https://bookings.omnihotels.com/event/bedford-springs/pennsylvania-defense-institute-meeting-07092025 .  You may also book a room over the telephone by calling 800-843-6664 (800-THE-OMNI) and make sure you reference “Pennsylvania Defense Institute Meeting”.  Do not delay and make sure you can stay at the resort. \n\n\n\nAttached is the 2024 PDI Annual CLE & Conference Brochure that includes the Conference Registration Form and the information for registering for a room at OMNI Bedford Springs.  There are three methods to register for the conference: \n\n\n\nComplete the Registration Form in the Annual Conference Brochure and mail with a check payable to “PDI” at:  Pennsylvania Defense Institute\, P.O Box 6099\, Harrisburg\, PA  17112 \n\n\n\nE-mail the Completed Registration Form to cwasilefski@padefense.org or to lgamby@padefense.org and mail check payable to “PDI” at: Pennsylvania Defense Institute\, P.O. Box 6099\, Harrisburg\, PA 17112 \n\n\n\nGo to PDI website at www.padefense.org and register using the form provided on the website and pay through PayPal. Do not miss this outstanding annual event.  In association with the management and staff at the OMNI Bedford Springs Resort\, PDI is working to assure that this will be a safe educational\, social\, and family experience \nOUTLINE OF EVENT COSTS
URL:https://padefense.org/event/pdi-board-meeting-25/
CATEGORIES:Annual Conference,Board Meeting
END:VEVENT
BEGIN:VEVENT
DTSTART;TZID=UTC:20240712T080000
DTEND;TZID=UTC:20240712T120000
DTSTAMP:20260424T181957
CREATED:20230922T172924Z
LAST-MODIFIED:20230922T172924Z
UID:4579-1720771200-1720785600@padefense.org
SUMMARY:PDI ANNUAL CLE AND CONFERENCE - OMNI BEDFORD SPRINGS RESORT
DESCRIPTION:
URL:https://padefense.org/event/pdi-annual-cle-and-conference-omni-bedford-springs-resort/
CATEGORIES:Annual Conference
END:VEVENT
BEGIN:VEVENT
DTSTART;TZID=UTC:20240711T080000
DTEND;TZID=UTC:20240711T230000
DTSTAMP:20260424T181957
CREATED:20230922T172816Z
LAST-MODIFIED:20240510T121335Z
UID:4577-1720684800-1720738800@padefense.org
SUMMARY:PDI ANNUAL CLE AND CONFERENCE - OMNI BEDFORD SPRINGS RESORT
DESCRIPTION:>> Download The PDF Registration
URL:https://padefense.org/event/pdi-annual-cle-and-conference-omni-bedford-springs/
CATEGORIES:Annual Conference
END:VEVENT
BEGIN:VEVENT
DTSTART;TZID=UTC:20230715T073000
DTEND;TZID=UTC:20230715T120000
DTSTAMP:20260424T181957
CREATED:20220826T183552Z
LAST-MODIFIED:20220826T183958Z
UID:4415-1689406200-1689422400@padefense.org
SUMMARY:PDI ANNUAL CLE & CONFERENCE
DESCRIPTION:
URL:https://padefense.org/event/pdi-annual-cle-conference-3/
CATEGORIES:Annual Conference
END:VEVENT
BEGIN:VEVENT
DTSTART;TZID=UTC:20230714T073000
DTEND;TZID=UTC:20230714T230000
DTSTAMP:20260424T181957
CREATED:20220826T183450Z
LAST-MODIFIED:20220826T183450Z
UID:4413-1689319800-1689375600@padefense.org
SUMMARY:PDI ANNUAL CLE & CONFERENCE
DESCRIPTION:
URL:https://padefense.org/event/pdi-annual-cle-conference-2/
CATEGORIES:Annual Conference
END:VEVENT
BEGIN:VEVENT
DTSTART;TZID=UTC:20230712T170000
DTEND;TZID=UTC:20230712T230000
DTSTAMP:20260424T181957
CREATED:20220826T183335Z
LAST-MODIFIED:20230508T145339Z
UID:4411-1689181200-1689202800@padefense.org
SUMMARY:PDI ANNUAL CLE & CONFERENCE
DESCRIPTION:Register Today!
URL:https://padefense.org/event/pdi-annual-cle-conference/
CATEGORIES:Annual Conference
END:VEVENT
BEGIN:VEVENT
DTSTART;TZID=UTC:20220714T080000
DTEND;TZID=UTC:20220716T233000
DTSTAMP:20260424T181957
CREATED:20210813T155530Z
LAST-MODIFIED:20220526T195452Z
UID:4065-1657785600-1658014200@padefense.org
SUMMARY:PDI ANNUAL CONFERENCE AND CLE - OMNI BEDFORD SPRINGS RESORT
DESCRIPTION:Join PDI Officers\, Directors\, Committee Co-Chairs and Members at this annual event featuring great education opportunities\, social gatherings with friends and colleagues\, and the amenities of the historic and beautiful OMNI Bedford Springs Resort. \nCalendar Of Events\n[one_third_first] \nWednesday – July 13th\, 2022 \n5-6PM – Young lawyers and first time attendees mixer \n6-8PM – Board or directors meeting \n8:30PM-12AM – PDI welcome reception \n[/one_third_first][one_third] \nThursday – July 14th\, 2022 \n7:30-8:30AM – Registration and breakfast-first ladies lounge \n8:30-8:45AM – Welcome-colonnade room \n8:45-9:45AM – Qualified immunity and its significance in civil rights cases \n9:45-10:45AM – Bad faith avoidance for the defense attorney \n10:45-11AM – Break\, constitutional hall and ladies first lounge \n11AM-12PM – Updates on legal developments in civil defense law \n12-1:15PM – Lunch-PDI business meeting and awards ceremony in the colonnade room \n1:15-5PM – Gold tournament/spa time/pool time \n6-9PM – President’s reception and dinner (The Mill) \n9-12PM – Network depositions’ reception-indoor pool terrace \n[/one_third][one_third_last] \nFriday – July 15th\, 2022 \n7:45-8:45AM – Registration/breakfast-first ladies lounge colonnade room \n8:45-9:45AM – Fostering an inclusive workplace-implicit bias\, microaggressions\, and self awareness \n9:45-10:45AM – Negotiating tactics and strategies for the defense attorney \n10:45-11AM – Break\, constitutional hall and ladies first lounge \n11AM-12PM – Litigating traumatic brain injury cases \n[/one_third_last] \nDownload the PDF form here >>
URL:https://padefense.org/event/pdi-annual-conference-and-cle-omni-bedford-springs-resort/
LOCATION:Omni Hotels & Resorts\, 2138 Business 220\, Bedford\, PA\, 15522\, United States
CATEGORIES:Annual Conference,Continuing Legal Education
ATTACH;FMTTYPE=image/png:https://padefense.org/wp-content/uploads/2021/08/Screen-Shot-2022-05-26-at-3.27.36-PM.png
END:VEVENT
END:VCALENDAR