BEGIN:VCALENDAR
VERSION:2.0
PRODID:-//The Pennsylvania Defense Institute - ECPv6.15.20//NONSGML v1.0//EN
CALSCALE:GREGORIAN
METHOD:PUBLISH
X-WR-CALNAME:The Pennsylvania Defense Institute
X-ORIGINAL-URL:https://padefense.org
X-WR-CALDESC:Events for The Pennsylvania Defense Institute
REFRESH-INTERVAL;VALUE=DURATION:PT1H
X-Robots-Tag:noindex
X-PUBLISHED-TTL:PT1H
BEGIN:VTIMEZONE
TZID:UTC
BEGIN:STANDARD
TZOFFSETFROM:+0000
TZOFFSETTO:+0000
TZNAME:UTC
DTSTART:20200101T000000
END:STANDARD
END:VTIMEZONE
BEGIN:VEVENT
DTSTART;TZID=UTC:20240515T100000
DTEND;TZID=UTC:20240515T120000
DTSTAMP:20260424T185511
CREATED:20230922T172458Z
LAST-MODIFIED:20230922T172458Z
UID:4571-1715767200-1715774400@padefense.org
SUMMARY:PDI BOARD MEETING
DESCRIPTION:
URL:https://padefense.org/event/pdi-board-meeting-19/
CATEGORIES:Board Meeting
END:VEVENT
BEGIN:VEVENT
DTSTART;TZID=UTC:20240320T100000
DTEND;TZID=UTC:20240320T120000
DTSTAMP:20260424T185511
CREATED:20240313T221242Z
LAST-MODIFIED:20240313T221242Z
UID:4700-1710928800-1710936000@padefense.org
SUMMARY:PDI BOARD MEETING
DESCRIPTION:
URL:https://padefense.org/event/pdi-board-meeting-20/
CATEGORIES:Board Meeting
END:VEVENT
BEGIN:VEVENT
DTSTART;TZID=UTC:20240313T100000
DTEND;TZID=UTC:20240313T120000
DTSTAMP:20260424T185511
CREATED:20230922T172250Z
LAST-MODIFIED:20230922T172250Z
UID:4567-1710324000-1710331200@padefense.org
SUMMARY:PDI BOARD MEETING
DESCRIPTION:
URL:https://padefense.org/event/pdi-board-meeting-18/
CATEGORIES:Board Meeting
END:VEVENT
BEGIN:VEVENT
DTSTART;TZID=UTC:20240117T100000
DTEND;TZID=UTC:20240117T120000
DTSTAMP:20260424T185511
CREATED:20230922T172038Z
LAST-MODIFIED:20230922T172038Z
UID:4563-1705485600-1705492800@padefense.org
SUMMARY:PDI BOARD MEETING
DESCRIPTION:
URL:https://padefense.org/event/pdi-board-meeting-17/
CATEGORIES:Board Meeting
END:VEVENT
BEGIN:VEVENT
DTSTART;TZID=UTC:20231115T100000
DTEND;TZID=UTC:20231115T120000
DTSTAMP:20260424T185511
CREATED:20230922T171726Z
LAST-MODIFIED:20230922T171726Z
UID:4559-1700042400-1700049600@padefense.org
SUMMARY:PDI BOARD MEETING
DESCRIPTION:
URL:https://padefense.org/event/pdi-board-meeting-16/
CATEGORIES:Board Meeting
END:VEVENT
BEGIN:VEVENT
DTSTART;TZID=UTC:20230922T100000
DTEND;TZID=UTC:20230922T113000
DTSTAMP:20260424T185511
CREATED:20230922T161000Z
LAST-MODIFIED:20230922T161000Z
UID:4542-1695376800-1695382200@padefense.org
SUMMARY:PDI BOARD MEETING
DESCRIPTION:
URL:https://padefense.org/event/pdi-board-meeting-15/
CATEGORIES:Board Meeting
END:VEVENT
BEGIN:VEVENT
DTSTART;TZID=UTC:20230712T180000
DTEND;TZID=UTC:20230712T203000
DTSTAMP:20260424T185511
CREATED:20220826T183219Z
LAST-MODIFIED:20220826T183219Z
UID:4409-1689184800-1689193800@padefense.org
SUMMARY:PDI BOARD MEETING @ PDI ANNUAL CLE & CONFERENCE
DESCRIPTION:
URL:https://padefense.org/event/pdi-board-meeting-pdi-annual-cle-conference/
CATEGORIES:Board Meeting
END:VEVENT
BEGIN:VEVENT
DTSTART;TZID=UTC:20230621T100000
DTEND;TZID=UTC:20230621T120000
DTSTAMP:20260424T185511
CREATED:20220826T182857Z
LAST-MODIFIED:20220826T182857Z
UID:4407-1687341600-1687348800@padefense.org
SUMMARY:PDI BOARD MEETING
DESCRIPTION:
URL:https://padefense.org/event/pdi-board-meeting-14/
CATEGORIES:Board Meeting
END:VEVENT
BEGIN:VEVENT
DTSTART;TZID=UTC:20230419T100000
DTEND;TZID=UTC:20230419T120000
DTSTAMP:20260424T185511
CREATED:20220826T182707Z
LAST-MODIFIED:20220826T182707Z
UID:4405-1681898400-1681905600@padefense.org
SUMMARY:PDI BOARD MEETING
DESCRIPTION:
URL:https://padefense.org/event/pdi-board-meeting-13/
CATEGORIES:Board Meeting
END:VEVENT
BEGIN:VEVENT
DTSTART;TZID=UTC:20230215T100000
DTEND;TZID=UTC:20230215T120000
DTSTAMP:20260424T185511
CREATED:20220826T182610Z
LAST-MODIFIED:20220826T182610Z
UID:4403-1676455200-1676462400@padefense.org
SUMMARY:PDI BOARD MEETING
DESCRIPTION:
URL:https://padefense.org/event/pdi-board-meeting-12/
CATEGORIES:Board Meeting
END:VEVENT
BEGIN:VEVENT
DTSTART;TZID=UTC:20221214T130000
DTEND;TZID=UTC:20221214T143000
DTSTAMP:20260424T185511
CREATED:20220826T182452Z
LAST-MODIFIED:20221104T150449Z
UID:4401-1671022800-1671028200@padefense.org
SUMMARY:PDI BOARD MEETING
DESCRIPTION:Board Meeting will be live at the Marshall Denehey Office on the 17th Floor of the Union Trust Building\, Pittsburgh\, PA and via Zoom for those unable to attend live.
URL:https://padefense.org/event/pdi-board-meeting-11/
CATEGORIES:Board Meeting
END:VEVENT
BEGIN:VEVENT
DTSTART;TZID=UTC:20221012T100000
DTEND;TZID=UTC:20221012T120000
DTSTAMP:20260424T185511
CREATED:20220826T182401Z
LAST-MODIFIED:20220826T182401Z
UID:4399-1665568800-1665576000@padefense.org
SUMMARY:PDI BOARD MEETING
DESCRIPTION:
URL:https://padefense.org/event/pdi-board-meeting-10/
CATEGORIES:Board Meeting
END:VEVENT
BEGIN:VEVENT
DTSTART;TZID=UTC:20220615T100000
DTEND;TZID=UTC:20220615T120000
DTSTAMP:20260424T185511
CREATED:20210813T154740Z
LAST-MODIFIED:20210813T154747Z
UID:4061-1655287200-1655294400@padefense.org
SUMMARY:PDI BOARD MEETING
DESCRIPTION:PDI Board Meeting may be held in person in Erie with Zoom or telephone connection.
URL:https://padefense.org/event/pdi-board-meeting-9/
CATEGORIES:Board Meeting
END:VEVENT
BEGIN:VEVENT
DTSTART;TZID=UTC:20220413T100000
DTEND;TZID=UTC:20220413T120000
DTSTAMP:20260424T185511
CREATED:20210813T154546Z
LAST-MODIFIED:20210813T154603Z
UID:4059-1649844000-1649851200@padefense.org
SUMMARY:PDI BOARD MEETING
DESCRIPTION:PDI Board meeting will be held in person in Wilkes-Barre/Scranton with Zoom or telephone connection.
URL:https://padefense.org/event/pdi-board-meeting-8/
CATEGORIES:Board Meeting
END:VEVENT
BEGIN:VEVENT
DTSTART;TZID=UTC:20220216T100000
DTEND;TZID=UTC:20220216T120000
DTSTAMP:20260424T185511
CREATED:20210813T154302Z
LAST-MODIFIED:20210813T154331Z
UID:4057-1645005600-1645012800@padefense.org
SUMMARY:PDI BOARD MEETING
DESCRIPTION:PDI Board Meeting will be held in person in Harrisburg and via Zoom or telephone connection.
URL:https://padefense.org/event/pdi-board-meeting-7/
CATEGORIES:Board Meeting
END:VEVENT
BEGIN:VEVENT
DTSTART;TZID=UTC:20211201T140000
DTEND;TZID=UTC:20211201T163000
DTSTAMP:20260424T185511
CREATED:20210813T154122Z
LAST-MODIFIED:20210813T154122Z
UID:4055-1638367200-1638376200@padefense.org
SUMMARY:PDI BOARD MEETING
DESCRIPTION:December PDI Board Meeting will be held in conjunction with the West District Holiday Party.  Date\, time and place to be announced.  Meeting will also be Zoom or telephone connecton.
URL:https://padefense.org/event/pdi-board-meeting-6/
CATEGORIES:Board Meeting
END:VEVENT
BEGIN:VEVENT
DTSTART;TZID=UTC:20211027T100000
DTEND;TZID=UTC:20211027T120000
DTSTAMP:20260424T185511
CREATED:20210813T153901Z
LAST-MODIFIED:20210813T153901Z
UID:4053-1635328800-1635336000@padefense.org
SUMMARY:PDI BOARD MEETING
DESCRIPTION:PDI Board Meeting will be held in person in Philadelphia with either Zoom or telephone connection.  Information will be provided closer to the meeting.
URL:https://padefense.org/event/pdi-board-meeting-5/
CATEGORIES:Board Meeting
END:VEVENT
BEGIN:VEVENT
DTSTART;TZID=UTC:20210825T100000
DTEND;TZID=UTC:20210825T120000
DTSTAMP:20260424T185511
CREATED:20210813T153552Z
LAST-MODIFIED:20210813T153552Z
UID:4050-1629885600-1629892800@padefense.org
SUMMARY:PDI BOARD MEETING
DESCRIPTION:PDI Board Meeting will be held on Zoom.  Connection information will be provided closer to the meeting
URL:https://padefense.org/event/pdi-board-meeting-4/
LOCATION:Zoom Meeting
CATEGORIES:Board Meeting
END:VEVENT
BEGIN:VEVENT
DTSTART;TZID=UTC:20210715T080000
DTEND;TZID=UTC:20210715T170000
DTSTAMP:20260424T185511
CREATED:20210211T193403Z
LAST-MODIFIED:20210211T193403Z
UID:3929-1626336000-1626368400@padefense.org
SUMMARY:PDI ANNUAL CLE AND CONFERENCE - JULY 14\, 15\, 16\, 2021 @ OMNI BEDFORD SPRINGS RESORT
DESCRIPTION:PDI Annual CLE and Conference is scheduled for July 14\, 15\, 16\, 2021 at the beautiful and historic Omni Bedford Springs Resort\, Bedford\, Pennsylvania.  This is shaping up to be another fantastic CLE and Social experience.  it is intended to be live at the Resort with all COVID precautions taken.  This will be an ideal time to get out into the fresh air and experience the facilities at the Omni Bedford Springs Resort and to obtain CLE credits on current topics from excellent speakers.  Plan on attending.  Registration information will be coming out in the near future.
URL:https://padefense.org/event/pdi-annual-cle-and-conference-july-14-15-16-2021-omni-bedford-springs-resort/
CATEGORIES:Board Meeting,Social Event,Webinar
END:VEVENT
BEGIN:VEVENT
DTSTART;TZID=UTC:20210714T180000
DTEND;TZID=UTC:20210714T203000
DTSTAMP:20260424T185511
CREATED:20210211T194138Z
LAST-MODIFIED:20210211T194138Z
UID:3936-1626285600-1626294600@padefense.org
SUMMARY:PDI BOARD MEETING AT ANNUAL CONFERENCE
DESCRIPTION:
URL:https://padefense.org/event/pdi-board-meeting-at-annual-conference/
CATEGORIES:Board Meeting,Social Event
END:VEVENT
BEGIN:VEVENT
DTSTART;TZID=UTC:20210714T150000
DTEND;TZID=UTC:20210714T170000
DTSTAMP:20260424T185511
CREATED:20210211T194023Z
LAST-MODIFIED:20210211T194023Z
UID:3934-1626274800-1626282000@padefense.org
SUMMARY:PDI ANNUAL CLE AND CONFERENCE - JULY 14\, 15\, 16\, 2021 @ OMNI BEDFORD SPRINGS RESORT
DESCRIPTION:PDI Annual CLE and Conference is scheduled for July 14\, 15\, 16\, 2021 at the beautiful and historic Omni Bedford Springs Resort\, Bedford\, Pennsylvania.  This is shaping up to be another fantastic CLE and Social experience.  it is intended to be live at the Resort with all COVID precautions taken.  This will be an ideal time to get out into the fresh air and experience the facilities at the Omni Bedford Springs Resort and to obtain CLE credits on current topics from excellent speakers.  Plan on attending.  Registration information will be coming out in the near future.
URL:https://padefense.org/event/pdi-annual-cle-and-conference-july-14-15-16-2021-omni-bedford-springs-resort-3/
CATEGORIES:Board Meeting,Social Event,Webinar
END:VEVENT
BEGIN:VEVENT
DTSTART;VALUE=DATE:20210714
DTEND;VALUE=DATE:20210717
DTSTAMP:20260424T185511
CREATED:20210211T193532Z
LAST-MODIFIED:20210505T131015Z
UID:3932-1626220800-1626479999@padefense.org
SUMMARY:PDI ANNUAL CLE AND CONFERENCE - JULY 14\, 15\, 16\, 2021 @ OMNI BEDFORD SPRINGS RESORT
DESCRIPTION:2021 PDI Annual CLE and Conference\n July 14\, 15\, 16\, 2021 at the beautiful and historic Omni Bedford Springs Resort\, Bedford\, Pennsylvania. \nThis is shaping up to be another fantastic CLE and Social experience.  it is intended to be live at the Resort with all COVID precautions taken.  This will be an ideal time to get out into the fresh air and experience the facilities at the Omni Bedford Springs Resort and to obtain CLE credits on current topics from excellent speakers.  Plan on attending. \nDownload the Event Brochure\nRegister Online
URL:https://padefense.org/event/pdi-annual-cle-and-conference-july-14-15-16-2021-omni-bedford-springs-resort-2/
LOCATION:Omni Hotels & Resorts\, 2138 Business 220\, Bedford\, PA\, 15522\, United States
CATEGORIES:Board Meeting,Social Event,Webinar
END:VEVENT
BEGIN:VEVENT
DTSTART;TZID=UTC:20210615T100000
DTEND;TZID=UTC:20210615T110000
DTSTAMP:20260424T185511
CREATED:20210111T200913Z
LAST-MODIFIED:20210111T200913Z
UID:3899-1623751200-1623754800@padefense.org
SUMMARY:PDI Board Meeting
DESCRIPTION:
URL:https://padefense.org/event/pdi-board-meeting/
CATEGORIES:Board Meeting
END:VEVENT
BEGIN:VEVENT
DTSTART;TZID=UTC:20210415T100000
DTEND;TZID=UTC:20210415T110000
DTSTAMP:20260424T185511
CREATED:20210111T201000Z
LAST-MODIFIED:20210111T201000Z
UID:3901-1618480800-1618484400@padefense.org
SUMMARY:PDI Board Meeting
DESCRIPTION:
URL:https://padefense.org/event/pdi-board-meeting-2/
CATEGORIES:Board Meeting
END:VEVENT
BEGIN:VEVENT
DTSTART;TZID=UTC:20210216T100000
DTEND;TZID=UTC:20210216T110000
DTSTAMP:20260424T185511
CREATED:20210111T201056Z
LAST-MODIFIED:20210111T201056Z
UID:3904-1613469600-1613473200@padefense.org
SUMMARY:PDI Board Meeting
DESCRIPTION:
URL:https://padefense.org/event/pdi-board-meeting-3/
CATEGORIES:Board Meeting
END:VEVENT
END:VCALENDAR