BEGIN:VCALENDAR
VERSION:2.0
PRODID:-//The Pennsylvania Defense Institute - ECPv6.15.20//NONSGML v1.0//EN
CALSCALE:GREGORIAN
METHOD:PUBLISH
X-ORIGINAL-URL:https://padefense.org
X-WR-CALDESC:Events for The Pennsylvania Defense Institute
REFRESH-INTERVAL;VALUE=DURATION:PT1H
X-Robots-Tag:noindex
X-PUBLISHED-TTL:PT1H
BEGIN:VTIMEZONE
TZID:UTC
BEGIN:STANDARD
TZOFFSETFROM:+0000
TZOFFSETTO:+0000
TZNAME:UTC
DTSTART:20210101T000000
END:STANDARD
END:VTIMEZONE
BEGIN:VEVENT
DTSTART;TZID=UTC:20241120T120000
DTEND;TZID=UTC:20241120T133000
DTSTAMP:20260424T193948
CREATED:20241018T152321Z
LAST-MODIFIED:20241027T175016Z
UID:4825-1732104000-1732109400@padefense.org
SUMMARY:PDI LUNCH TIME WEBINAR - "Searching for AI:  Case Management Tips For Existing Litigation's AI Issues"
DESCRIPTION:Gregory P. Graham\, Esquire\, Marshall Dennehey Warner Coleman & Goggin\, will share his expertise regarding Case Management in the use of AI during Litigation and the issues associated with that use.  This will be an extension of the presentation that Mr. Graham made at the 2024 PDI Annual CLE & Conference in Bedford Springs.  Do not miss that very informative presentation regarding litigation issues related to the use of AI during litigation.  Look for Registration information that will be provided in the near future. \nDownload the PDF form here >>
URL:https://padefense.org/event/pdi-lunch-time-webinar-searching-for-ai-case-management-tips-for-existing-litigations-ai-issues/
CATEGORIES:Continuing Legal Education
END:VEVENT
BEGIN:VEVENT
DTSTART;TZID=UTC:20240507T120000
DTEND;TZID=UTC:20240507T130000
DTSTAMP:20260424T193948
CREATED:20240223T201458Z
LAST-MODIFIED:20240223T201538Z
UID:4686-1715083200-1715086800@padefense.org
SUMMARY:PDI LIVE LUNCH AND LEARN PROGRAM - TUESDAY\, MAY 7\, 2024 @ 12:00 P.M. AT GRAN CAFFE L'AUILA - ARCCA WILL PRESENT "Accessing Injury Causation:  The Role of the Biomechanical Engineer"
DESCRIPTION:The PDI East District Officers and Directors will provide a PDI Live Lunch and Learn Program on Tuesday\, May 7\, 2024 @ 12:00 p.m. at Gran Caffe L’Auila\, 1716 Chestnut Street\, Philadelphia\, PA.  Arrangements have been made for PDI Sponsor ARCCA present the CLE program entitled “Accessing Injury Causation:  The Role of a Biomechanical Engineer”.  This program  will provide a biological analysis of injury causation involving the understanding the severity of the incident\, individual response\, and the presence or absence of the required injury mechanism in the context of human tolerance and an individual unique biomechanical attributes.  This presentation will explore each of these areas and outline the foundational methods and tools often used by ARCCA experts.  An emphasis will be placed on understanding the concept of an injury mechanism and its critical role in determining a cause and effect relationship.
URL:https://padefense.org/event/pdi-live-lunch-and-learn-program-tuesday-may-7-2024-1200-p-m-at-gran-caffe-lauila-arcca-will-present-accessing-injury-causation-the-role-of-the-biomechanical-engineer/
CATEGORIES:Continuing Legal Education
END:VEVENT
BEGIN:VEVENT
DTSTART;TZID=UTC:20231213T150000
DTEND;TZID=UTC:20231213T170000
DTSTAMP:20260424T193948
CREATED:20230927T163034Z
LAST-MODIFIED:20230927T163034Z
UID:4582-1702479600-1702486800@padefense.org
SUMMARY:PDI WEST DISTRICT CLE
DESCRIPTION:The Officers and Directors for the PDI West District is planning a 2 hour CLE in conjunction with the Annual Holiday Social.  More information will be provided in the near future.
URL:https://padefense.org/event/pdi-west-district-cle/
CATEGORIES:Continuing Legal Education
END:VEVENT
BEGIN:VEVENT
DTSTART;TZID=UTC:20231207T120000
DTEND;TZID=UTC:20231207T133000
DTSTAMP:20260424T193948
CREATED:20230922T165425Z
LAST-MODIFIED:20231106T201411Z
UID:4551-1701950400-1701955800@padefense.org
SUMMARY:PDI EASTERN DISTRICT - LUNCH AND LEARN - "BEING A LAWYER\, NOT JUST THINKING LIKE ONE: LESSONS FROM THE TRENCHES"
DESCRIPTION:PDI Eastern District Officers and Directors  will host an in person Lunch and Learn for 1 PACLE Credit.  The event will take place Magiano’s Little Italy Restaurant\, 12th and Filbert Streets\, Philadelphia\, Pennsylvania.  The topic of the presentation is “Being a Lawyer\, Not Just Thinking Like One: Lessons From the Trenches”.  The Presenters will be Matthew Cioeta\, Esquire\, Ricci\, Tyrrell\, Johnson & Grey\, Anthony M. Knapp\, Esquire\, Post & Schell\, and Jean S. Scanlan\, Wade Clark Mulcahy.  The event will begin at 12:00 p.m.  The cost of the event is $50 per person\, which includes the lunch and 1 CLE credit.  Please register and plan on attending this great educational and social event.  REGISTRATION INFORMATION WILL BE COMING TO YOU SOON. \n\n\n\n\n\n\n\n\n\n\n>> Download The PDF Registration
URL:https://padefense.org/event/pdi-eastern-district-lunch-and-learn-topic-date-time-and-place-to-be-announced-be-on-the-lookout/
CATEGORIES:Continuing Legal Education
END:VEVENT
BEGIN:VEVENT
DTSTART;TZID=UTC:20231102T160000
DTEND;TZID=UTC:20231102T200000
DTSTAMP:20260424T193948
CREATED:20230922T163126Z
LAST-MODIFIED:20231016T115952Z
UID:4546-1698940800-1698955200@padefense.org
SUMMARY:PDI EASTERN DISTRICT PIZZA AND BEER EVENING WITH PDI SPONSORS WITH CLE - "EXPERT VENDOR 101- HIRING AND BEST UTILIZING YOUR EXPERTS"- THURSDAY\, NOVEMBER 2\, 2023 @ 4:00 PM TO 8:00 P.M. - 1515 MARKET STREET\, BUILDING CONFERENCE ROOM\, PHILADELPHIA
DESCRIPTION:PDI Eastern District Officers and Directors will present “Expert Vendor 101: Hiring and Best Utilizing  Your Expert”.  The event is being underwritten by PDI Firm member Wade Clark Mulcahy\, LLP and will be moderated by Eastern District Vice President\, Robert J. Cosgrove\, Esquire\, Wade Clark Mulcahy\, LLP.  The event will feature 1 CLE credit and a Beer and Pizza Social.  Come out to this free event to meet PDI’s Sponsors\, learn information about working with experts\, obtain 1 PACLE Substantive Credit and socialize with colleagues.  Do not miss this event.  The event will take place on Thursday\, November 2\, 2023 from 4:00 p.m. to 8:00 p.m.  The event will be held in the building conference room at 1515 Market Street\, Philadelphia  19102. \n\n\n\n\n\n\n\n\n\n\n>> Download The PDF Registration
URL:https://padefense.org/event/pdi-eastern-district-pizza-and-beer-evening-with-pdi-gold-sponsors-cle-night-with-pdi-sponsors-date-time-and-place-to-be-announced/
CATEGORIES:Continuing Legal Education
END:VEVENT
BEGIN:VEVENT
DTSTART;TZID=UTC:20221026T160000
DTEND;TZID=UTC:20221026T180000
DTSTAMP:20260424T193948
CREATED:20220826T203217Z
LAST-MODIFIED:20220826T203217Z
UID:4423-1666800000-1666807200@padefense.org
SUMMARY:PDI/PADC TO CO-HOST A CLE _"Supreme Court of Pennsylvania at 300 Years: From British Rule to Judicial Federalism" AND SOCIAL AT THE ANNUAL DRI CONFERENCE
DESCRIPTION:The DRI Conference is coming to Pennsylvania in October.  Pennsylvania Defense Institute and Philadelphia Association of Defense Counsel will co-host a CLE and Social to kick off the DRI Annual Conference on October 26\, 2022 at the Philadelphia Marriott Downtown\, 1201 Market Street\, Philadelphia\, PA  The CLE portion of the program is entitled “Supreme Court of Pennsylvania at 300 years: From British Rule to Judicial Federalism”. 1 substantive CLE Credit. \nThe Supreme Court of Pennsylvania is the oldest continuously operating appellate court in the Western Hemisphere.  Topics explored by the panel wil include the Court’s beginnings in 1684 as the Provincial Court established by William Penn\, The statutory establishment of the Supreme Court in May 1722\, the relevance for statehood\, and the Court’s contributions to the development of American Law and principles of judicial federalism. \nThe CLE Panel includes: Moderator – Kenneth S. Butensky\, Esquire\, Chief Deputy City Solicitor\, City of Philadelphia; Panel Members – Charles “Chip” Becker\, Esquire\, Kline & Specter\, P.C.; Craig Green Esquire\, Ph.D.\, Professor of Law\, Temple University School of Law; and John J. Hare\, Esquire\, Marshall\, Dennehey\, Warner\, Coleman & Goggin. \nThe CLE will begin at 4:00 p.m. immediately followed by a social hour at 5:00 p.m.  Registrants at this event are invited to attend DRI’s Welcome Reception from 6:00 p.m. to 7:30 p.m. \nWatch for more information. \n 
URL:https://padefense.org/event/pdi-padc-to-co-host-a-cle-_supreme-court-of-pennsylvania-at-300-years-from-british-rule-to-judicial-federalism-and-social-at-the-annual-dri-conference/
CATEGORIES:Continuing Legal Education
END:VEVENT
BEGIN:VEVENT
DTSTART;TZID=UTC:20220714T080000
DTEND;TZID=UTC:20220716T233000
DTSTAMP:20260424T193948
CREATED:20210813T155530Z
LAST-MODIFIED:20220526T195452Z
UID:4065-1657785600-1658014200@padefense.org
SUMMARY:PDI ANNUAL CONFERENCE AND CLE - OMNI BEDFORD SPRINGS RESORT
DESCRIPTION:Join PDI Officers\, Directors\, Committee Co-Chairs and Members at this annual event featuring great education opportunities\, social gatherings with friends and colleagues\, and the amenities of the historic and beautiful OMNI Bedford Springs Resort. \nCalendar Of Events\n[one_third_first] \nWednesday – July 13th\, 2022 \n5-6PM – Young lawyers and first time attendees mixer \n6-8PM – Board or directors meeting \n8:30PM-12AM – PDI welcome reception \n[/one_third_first][one_third] \nThursday – July 14th\, 2022 \n7:30-8:30AM – Registration and breakfast-first ladies lounge \n8:30-8:45AM – Welcome-colonnade room \n8:45-9:45AM – Qualified immunity and its significance in civil rights cases \n9:45-10:45AM – Bad faith avoidance for the defense attorney \n10:45-11AM – Break\, constitutional hall and ladies first lounge \n11AM-12PM – Updates on legal developments in civil defense law \n12-1:15PM – Lunch-PDI business meeting and awards ceremony in the colonnade room \n1:15-5PM – Gold tournament/spa time/pool time \n6-9PM – President’s reception and dinner (The Mill) \n9-12PM – Network depositions’ reception-indoor pool terrace \n[/one_third][one_third_last] \nFriday – July 15th\, 2022 \n7:45-8:45AM – Registration/breakfast-first ladies lounge colonnade room \n8:45-9:45AM – Fostering an inclusive workplace-implicit bias\, microaggressions\, and self awareness \n9:45-10:45AM – Negotiating tactics and strategies for the defense attorney \n10:45-11AM – Break\, constitutional hall and ladies first lounge \n11AM-12PM – Litigating traumatic brain injury cases \n[/one_third_last] \nDownload the PDF form here >>
URL:https://padefense.org/event/pdi-annual-conference-and-cle-omni-bedford-springs-resort/
LOCATION:Omni Hotels & Resorts\, 2138 Business 220\, Bedford\, PA\, 15522\, United States
CATEGORIES:Annual Conference,Continuing Legal Education
ATTACH;FMTTYPE=image/png:https://padefense.org/wp-content/uploads/2021/08/Screen-Shot-2022-05-26-at-3.27.36-PM.png
END:VEVENT
BEGIN:VEVENT
DTSTART;TZID=UTC:20220428T151500
DTEND;TZID=UTC:20220428T210000
DTSTAMP:20260424T193948
CREATED:20220311T164234Z
LAST-MODIFIED:20220411T181459Z
UID:4277-1651158900-1651179600@padefense.org
SUMMARY:PDI MIDDLE DISTRICT NORTH CLE AND SOCIAL WITH THE SWB RAILRIDERS @ PNC FIELD - APRIL 28\, 2022
DESCRIPTION:Register now and mark your calendars for a great evening of education\, fun and baseball.  John Zolock\, P.E.\, from PDI Gold Partner\, EXPONENT\, Daniel D. Stofko\, Esquire\, Margolis Edelstein\, and Jamie J. Davis\, Esquire\, Weber Gallagher\,  will present important information regarding “The Essentials of Accident Reconstruction”.  During the presentation\, you will receive legal and practical information regarding the reconstruction of accidents and how that is used at trial.  You will receive one CLE substantive credit.  Immediately following the CLE\, fun\, eats and baseball will occur at the Kost Pavilion where you can socialize with colleagues\, friends and family.  It is expected to be a very educational and fun evening.  Bring the family and enjoy the game with family\, friends\, and colleagues. With your registration\, you will receive one substantive CLE credit\, a ticket to the Scranton/Wilkes-Barre Railriders v. Lehigh Valley Iron Pigs game with great seats at the Kost Pavilion\, hot dogs\, hamburgers\, pasta salad\, chips\, soda and water\, and an enjoyable evening.  The cost of the event is as follows: \nMembers – $35 \nFamily Members – $25 per person \nNon-Members – $40 \nREGISTRATION AND PAYMENT METHODS: \n_______          Complete Form and mail with check payable to “PDI” to: Pennsylvania Defense Institute\, P.O. Box 6099\, Harrisburg\, PA 17112  and e-mail Registration to cwasilefski@padefense.org or lgamby@padefense.org. and mail a check payable to “PDI” at Pennsylvania Defense Institute\, P.O. Box 6099\, Harrisburg\, PA  17112. \nDownload Form Here >> \n 
URL:https://padefense.org/event/pdi-middle-district-north-cle-and-social-with-the-swb-railriders-pnc-field-april-28-2022/
CATEGORIES:Continuing Legal Education,Social Event
END:VEVENT
END:VCALENDAR