BEGIN:VCALENDAR
VERSION:2.0
PRODID:-//The Pennsylvania Defense Institute - ECPv6.15.20//NONSGML v1.0//EN
CALSCALE:GREGORIAN
METHOD:PUBLISH
X-WR-CALNAME:The Pennsylvania Defense Institute
X-ORIGINAL-URL:https://padefense.org
X-WR-CALDESC:Events for The Pennsylvania Defense Institute
REFRESH-INTERVAL;VALUE=DURATION:PT1H
X-Robots-Tag:noindex
X-PUBLISHED-TTL:PT1H
BEGIN:VTIMEZONE
TZID:UTC
BEGIN:STANDARD
TZOFFSETFROM:+0000
TZOFFSETTO:+0000
TZNAME:UTC
DTSTART:20240101T000000
END:STANDARD
END:VTIMEZONE
BEGIN:VEVENT
DTSTART;TZID=UTC:20250205T100000
DTEND;TZID=UTC:20250205T120000
DTSTAMP:20260425T152354
CREATED:20240916T205315Z
LAST-MODIFIED:20240916T205315Z
UID:4795-1738749600-1738756800@padefense.org
SUMMARY:PDI EXECUTIVE COMMITTEE MEETING
DESCRIPTION:
URL:https://padefense.org/event/pdi-executive-committee-meeting-13/
CATEGORIES:Executive Committee Meeting
END:VEVENT
END:VCALENDAR