BEGIN:VCALENDAR
VERSION:2.0
PRODID:-//The Pennsylvania Defense Institute - ECPv6.15.20//NONSGML v1.0//EN
CALSCALE:GREGORIAN
METHOD:PUBLISH
X-ORIGINAL-URL:https://padefense.org
X-WR-CALDESC:Events for The Pennsylvania Defense Institute
REFRESH-INTERVAL;VALUE=DURATION:PT1H
X-Robots-Tag:noindex
X-PUBLISHED-TTL:PT1H
BEGIN:VTIMEZONE
TZID:UTC
BEGIN:STANDARD
TZOFFSETFROM:+0000
TZOFFSETTO:+0000
TZNAME:UTC
DTSTART:20200101T000000
END:STANDARD
END:VTIMEZONE
BEGIN:VEVENT
DTSTART;TZID=UTC:20260408T100000
DTEND;TZID=UTC:20260408T120000
DTSTAMP:20260424T182115
CREATED:20250827T175815Z
LAST-MODIFIED:20250827T175815Z
UID:5061-1775642400-1775649600@padefense.org
SUMMARY:PDI EXECUTIVE COMMITTEE MEETING
DESCRIPTION:
URL:https://padefense.org/event/pdi-executive-committee-meeting-20/
CATEGORIES:Executive Committee Meeting
END:VEVENT
BEGIN:VEVENT
DTSTART;TZID=UTC:20260211T100000
DTEND;TZID=UTC:20260211T120000
DTSTAMP:20260424T182115
CREATED:20250827T175712Z
LAST-MODIFIED:20250827T175712Z
UID:5059-1770804000-1770811200@padefense.org
SUMMARY:PDI EXECUTIVE COMMITTEE MEETING
DESCRIPTION:
URL:https://padefense.org/event/pdi-executive-committee-meeting-19/
CATEGORIES:Executive Committee Meeting
END:VEVENT
BEGIN:VEVENT
DTSTART;TZID=UTC:20251210T100000
DTEND;TZID=UTC:20251210T120000
DTSTAMP:20260424T182115
CREATED:20250827T175621Z
LAST-MODIFIED:20250827T175621Z
UID:5057-1765360800-1765368000@padefense.org
SUMMARY:PDI EXECUTIVE COMMITTEE MEETING
DESCRIPTION:
URL:https://padefense.org/event/pdi-executive-committee-meeting-18/
CATEGORIES:Executive Committee Meeting
END:VEVENT
BEGIN:VEVENT
DTSTART;TZID=UTC:20251015T100000
DTEND;TZID=UTC:20251015T120000
DTSTAMP:20260424T182115
CREATED:20250827T175527Z
LAST-MODIFIED:20250827T175527Z
UID:5055-1760522400-1760529600@padefense.org
SUMMARY:PDI EXECUTIVE COMMITTEE MEETING
DESCRIPTION:
URL:https://padefense.org/event/pdi-executive-committee-meeting-17/
CATEGORIES:Executive Committee Meeting
END:VEVENT
BEGIN:VEVENT
DTSTART;TZID=UTC:20250617T100000
DTEND;TZID=UTC:20250617T120000
DTSTAMP:20260424T182115
CREATED:20240916T205817Z
LAST-MODIFIED:20250516T201516Z
UID:4801-1750154400-1750161600@padefense.org
SUMMARY:PDI BOARD MEETING
DESCRIPTION:
URL:https://padefense.org/event/pdi-executive-committee-meeting-15/
CATEGORIES:Executive Committee Meeting
END:VEVENT
BEGIN:VEVENT
DTSTART;TZID=UTC:20250507T100000
DTEND;TZID=UTC:20250507T120000
DTSTAMP:20260424T182115
CREATED:20240916T205602Z
LAST-MODIFIED:20240916T210853Z
UID:4799-1746612000-1746619200@padefense.org
SUMMARY:PDI BOARD MEETING
DESCRIPTION:
URL:https://padefense.org/event/pdi-executive-committee-meeting-14/
CATEGORIES:Board Meeting,Executive Committee Meeting
END:VEVENT
BEGIN:VEVENT
DTSTART;TZID=UTC:20250205T100000
DTEND;TZID=UTC:20250205T120000
DTSTAMP:20260424T182115
CREATED:20240916T205315Z
LAST-MODIFIED:20240916T205315Z
UID:4795-1738749600-1738756800@padefense.org
SUMMARY:PDI EXECUTIVE COMMITTEE MEETING
DESCRIPTION:
URL:https://padefense.org/event/pdi-executive-committee-meeting-13/
CATEGORIES:Executive Committee Meeting
END:VEVENT
BEGIN:VEVENT
DTSTART;TZID=UTC:20241204T100000
DTEND;TZID=UTC:20241204T120000
DTSTAMP:20260424T182115
CREATED:20240916T204942Z
LAST-MODIFIED:20240916T204942Z
UID:4789-1733306400-1733313600@padefense.org
SUMMARY:PDI EXECUTIVE COMMITTEE MEETING
DESCRIPTION:
URL:https://padefense.org/event/pdi-executive-committee-meeting-12/
CATEGORIES:Executive Committee Meeting
END:VEVENT
BEGIN:VEVENT
DTSTART;TZID=UTC:20241023T100000
DTEND;TZID=UTC:20241023T120000
DTSTAMP:20260424T182115
CREATED:20241016T153411Z
LAST-MODIFIED:20241016T153411Z
UID:4823-1729677600-1729684800@padefense.org
SUMMARY:PDI EXECUTIVE COMMITTEE MEETING
DESCRIPTION:
URL:https://padefense.org/event/pdi-executive-committee-meeting-16/
CATEGORIES:Executive Committee Meeting
END:VEVENT
BEGIN:VEVENT
DTSTART;TZID=UTC:20240619T100000
DTEND;TZID=UTC:20240619T113000
DTSTAMP:20260424T182115
CREATED:20230922T172557Z
LAST-MODIFIED:20230922T172557Z
UID:4573-1718791200-1718796600@padefense.org
SUMMARY:EXECUTIVE COMMITTEE MEETING
DESCRIPTION:
URL:https://padefense.org/event/executive-committee-meeting-6/
CATEGORIES:Executive Committee Meeting
END:VEVENT
BEGIN:VEVENT
DTSTART;TZID=UTC:20240417T100000
DTEND;TZID=UTC:20240417T113000
DTSTAMP:20260424T182115
CREATED:20230922T172356Z
LAST-MODIFIED:20230922T172356Z
UID:4569-1713348000-1713353400@padefense.org
SUMMARY:PDI EXECUTIVE COMMITTEE MEETING
DESCRIPTION:
URL:https://padefense.org/event/pdi-executive-committee-meeting-10/
CATEGORIES:Executive Committee Meeting
END:VEVENT
BEGIN:VEVENT
DTSTART;TZID=UTC:20240215T100000
DTEND;TZID=UTC:20240215T113000
DTSTAMP:20260424T182115
CREATED:20230922T172155Z
LAST-MODIFIED:20230922T172155Z
UID:4565-1707991200-1707996600@padefense.org
SUMMARY:PDI EXECUTIVE COMMITTEE MEETING
DESCRIPTION:
URL:https://padefense.org/event/pdi-executive-committee-meeting-9/
CATEGORIES:Executive Committee Meeting
END:VEVENT
BEGIN:VEVENT
DTSTART;TZID=UTC:20231215T100000
DTEND;TZID=UTC:20231215T113000
DTSTAMP:20260424T182115
CREATED:20230922T171836Z
LAST-MODIFIED:20231116T144710Z
UID:4561-1702634400-1702639800@padefense.org
SUMMARY:PDI EXECUTIVE COMMITTEE MEETING
DESCRIPTION:
URL:https://padefense.org/event/pdi-executive-committee-meeting-8/
CATEGORIES:Executive Committee Meeting
END:VEVENT
BEGIN:VEVENT
DTSTART;TZID=UTC:20231018T100000
DTEND;TZID=UTC:20231018T113000
DTSTAMP:20260424T182115
CREATED:20230922T171623Z
LAST-MODIFIED:20230922T171623Z
UID:4557-1697623200-1697628600@padefense.org
SUMMARY:PDI EXECUTIVE COMMITTEE MEETING
DESCRIPTION:
URL:https://padefense.org/event/pdi-executive-committee-meeting-7/
CATEGORIES:Executive Committee Meeting
END:VEVENT
BEGIN:VEVENT
DTSTART;TZID=UTC:20230817T100000
DTEND;TZID=UTC:20230817T113000
DTSTAMP:20260424T182115
CREATED:20230922T160845Z
LAST-MODIFIED:20230922T160845Z
UID:4540-1692266400-1692271800@padefense.org
SUMMARY:EXECUTIVE COMMITTEE MEETING
DESCRIPTION:
URL:https://padefense.org/event/executive-committee-meeting-5/
CATEGORIES:Executive Committee Meeting
END:VEVENT
BEGIN:VEVENT
DTSTART;TZID=UTC:20230517T100000
DTEND;TZID=UTC:20230517T120000
DTSTAMP:20260424T182115
CREATED:20220826T182301Z
LAST-MODIFIED:20220826T182301Z
UID:4397-1684317600-1684324800@padefense.org
SUMMARY:EXECUTIVE COMMITTEE MEETING
DESCRIPTION:
URL:https://padefense.org/event/executive-committee-meeting-4/
CATEGORIES:Executive Committee Meeting
END:VEVENT
BEGIN:VEVENT
DTSTART;TZID=UTC:20230315T100000
DTEND;TZID=UTC:20230315T120000
DTSTAMP:20260424T182115
CREATED:20220826T182207Z
LAST-MODIFIED:20220826T182207Z
UID:4395-1678874400-1678881600@padefense.org
SUMMARY:EXECUTIVE COMMITTEE MEETING
DESCRIPTION:
URL:https://padefense.org/event/executive-committee-meeting-3/
CATEGORIES:Executive Committee Meeting
END:VEVENT
BEGIN:VEVENT
DTSTART;TZID=UTC:20230118T100000
DTEND;TZID=UTC:20230118T120000
DTSTAMP:20260424T182115
CREATED:20220826T182115Z
LAST-MODIFIED:20220826T182115Z
UID:4393-1674036000-1674043200@padefense.org
SUMMARY:EXECUTIVE COMMITTEE MEETING
DESCRIPTION:
URL:https://padefense.org/event/executive-committee-meeting-2/
CATEGORIES:Executive Committee Meeting
END:VEVENT
BEGIN:VEVENT
DTSTART;TZID=UTC:20221116T083000
DTEND;TZID=UTC:20221116T100000
DTSTAMP:20260424T182115
CREATED:20220826T182020Z
LAST-MODIFIED:20221104T151902Z
UID:4391-1668587400-1668592800@padefense.org
SUMMARY:EXECUTIVE COMMITTEE MEETING
DESCRIPTION:
URL:https://padefense.org/event/executive-committee-meeting/
CATEGORIES:Executive Committee Meeting
END:VEVENT
BEGIN:VEVENT
DTSTART;TZID=UTC:20220914T100000
DTEND;TZID=UTC:20220914T120000
DTSTAMP:20260424T182115
CREATED:20220826T181905Z
LAST-MODIFIED:20220826T181905Z
UID:4389-1663149600-1663156800@padefense.org
SUMMARY:PDI EXECUTIVE COMMITTEE MEEETING
DESCRIPTION:
URL:https://padefense.org/event/pdi-executive-committee-meeeting/
CATEGORIES:Executive Committee Meeting
END:VEVENT
BEGIN:VEVENT
DTSTART;TZID=UTC:20220316T100000
DTEND;TZID=UTC:20220316T120000
DTSTAMP:20260424T182115
CREATED:20210813T160139Z
LAST-MODIFIED:20210813T160139Z
UID:4075-1647424800-1647432000@padefense.org
SUMMARY:PDI EXECUTIVE COMMITTEE MEETING
DESCRIPTION:
URL:https://padefense.org/event/pdi-executive-committee-meeting-5/
CATEGORIES:Executive Committee Meeting
END:VEVENT
BEGIN:VEVENT
DTSTART;TZID=UTC:20220119T100000
DTEND;TZID=UTC:20220119T120000
DTSTAMP:20260424T182115
CREATED:20210813T160038Z
LAST-MODIFIED:20210813T160038Z
UID:4073-1642586400-1642593600@padefense.org
SUMMARY:PDI EXECUTIVE COMMITTEE MEETING
DESCRIPTION:
URL:https://padefense.org/event/pdi-executive-committee-meeting-4/
CATEGORIES:Executive Committee Meeting
END:VEVENT
BEGIN:VEVENT
DTSTART;TZID=UTC:20211119T100000
DTEND;TZID=UTC:20211119T120000
DTSTAMP:20260424T182115
CREATED:20210813T155933Z
LAST-MODIFIED:20210813T155933Z
UID:4071-1637316000-1637323200@padefense.org
SUMMARY:PDI EXECUTIVE COMMITTEE MEETING
DESCRIPTION:
URL:https://padefense.org/event/pdi-executive-committee-meeting-3/
CATEGORIES:Executive Committee Meeting
END:VEVENT
BEGIN:VEVENT
DTSTART;TZID=UTC:20210929T100000
DTEND;TZID=UTC:20210929T120000
DTSTAMP:20260424T182115
CREATED:20210813T155826Z
LAST-MODIFIED:20210813T155826Z
UID:4069-1632909600-1632916800@padefense.org
SUMMARY:PDI EXECUTIVE COMMITTEE MEETING
DESCRIPTION:
URL:https://padefense.org/event/pdi-executive-committee-meeting-2/
CATEGORIES:Executive Committee Meeting
END:VEVENT
BEGIN:VEVENT
DTSTART;TZID=UTC:20210507T090000
DTEND;TZID=UTC:20210507T103000
DTSTAMP:20260424T182115
CREATED:20210506T205131Z
LAST-MODIFIED:20210506T205131Z
UID:3986-1620378000-1620383400@padefense.org
SUMMARY:PDI EXECUTIVE COMMITTEE MEETING - VIA ZOOM
DESCRIPTION:
URL:https://padefense.org/event/pdi-executive-committee-meeting-via-zoom/
CATEGORIES:Executive Committee Meeting
END:VEVENT
BEGIN:VEVENT
DTSTART;TZID=UTC:20210112T100000
DTEND;TZID=UTC:20210112T230000
DTSTAMP:20260424T182115
CREATED:20210111T200735Z
LAST-MODIFIED:20210112T162751Z
UID:3897-1610445600-1610492400@padefense.org
SUMMARY:PDI Executive Committee Meeting
DESCRIPTION:
URL:https://padefense.org/event/pdi-executive-committee-meeting/
CATEGORIES:Executive Committee Meeting
END:VEVENT
END:VCALENDAR