BEGIN:VCALENDAR
VERSION:2.0
PRODID:-//The Pennsylvania Defense Institute - ECPv6.15.20//NONSGML v1.0//EN
CALSCALE:GREGORIAN
METHOD:PUBLISH
X-WR-CALNAME:The Pennsylvania Defense Institute
X-ORIGINAL-URL:https://padefense.org
X-WR-CALDESC:Events for The Pennsylvania Defense Institute
REFRESH-INTERVAL;VALUE=DURATION:PT1H
X-Robots-Tag:noindex
X-PUBLISHED-TTL:PT1H
BEGIN:VTIMEZONE
TZID:UTC
BEGIN:STANDARD
TZOFFSETFROM:+0000
TZOFFSETTO:+0000
TZNAME:UTC
DTSTART:20250101T000000
END:STANDARD
END:VTIMEZONE
BEGIN:VEVENT
DTSTART;TZID=UTC:20260225T170000
DTEND;TZID=UTC:20260225T183000
DTSTAMP:20260424T215738
CREATED:20260112T170923Z
LAST-MODIFIED:20260112T170923Z
UID:5165-1772038800-1772044200@padefense.org
SUMMARY:PDI/PADC LAW STUDENT CAREER CONFERENCE - Temple School of Law
DESCRIPTION:A panel of attorneys representing PDI and PADC will meet with law students at Temple School of Law to discuss the practice of law and possible career paths in the defense of cases on behalf of insurance companies\, corporations\, and individuals as a viable alternative.  The panel will answer questions raised by the students and give a practical perspective of the practice of law.
URL:https://padefense.org/event/pdi-padc-law-student-career-conference-temple-school-of-law/
CATEGORIES:Law Student Conference
END:VEVENT
END:VCALENDAR