BEGIN:VCALENDAR
VERSION:2.0
PRODID:-//The Pennsylvania Defense Institute - ECPv6.15.20//NONSGML v1.0//EN
CALSCALE:GREGORIAN
METHOD:PUBLISH
X-ORIGINAL-URL:https://padefense.org
X-WR-CALDESC:Events for The Pennsylvania Defense Institute
REFRESH-INTERVAL;VALUE=DURATION:PT1H
X-Robots-Tag:noindex
X-PUBLISHED-TTL:PT1H
BEGIN:VTIMEZONE
TZID:UTC
BEGIN:STANDARD
TZOFFSETFROM:+0000
TZOFFSETTO:+0000
TZNAME:UTC
DTSTART:20220101T000000
END:STANDARD
END:VTIMEZONE
BEGIN:VEVENT
DTSTART;TZID=UTC:20231017T090000
DTEND;TZID=UTC:20231017T153000
DTSTAMP:20260425T000734
CREATED:20230922T171400Z
LAST-MODIFIED:20230922T171400Z
UID:4555-1697533200-1697556600@padefense.org
SUMMARY:PDI DAY ON THE HILL
DESCRIPTION:In the Spring 2023\, PDI Officers and members visited PA House of Representatives leaders to discuss the availability of PDI as an information source for the legislators and their staffs.  On October 17\, 2023\, PDI will again make a trip to the Hill for visits with PA Senate to provide the same information and introduce PDI as a source of information.
URL:https://padefense.org/event/pdi-day-on-the-hill-2/
CATEGORIES:Legislative Activities
END:VEVENT
END:VCALENDAR