BEGIN:VCALENDAR
VERSION:2.0
PRODID:-//The Pennsylvania Defense Institute - ECPv6.15.20//NONSGML v1.0//EN
CALSCALE:GREGORIAN
METHOD:PUBLISH
X-WR-CALNAME:The Pennsylvania Defense Institute
X-ORIGINAL-URL:https://padefense.org
X-WR-CALDESC:Events for The Pennsylvania Defense Institute
REFRESH-INTERVAL;VALUE=DURATION:PT1H
X-Robots-Tag:noindex
X-PUBLISHED-TTL:PT1H
BEGIN:VTIMEZONE
TZID:UTC
BEGIN:STANDARD
TZOFFSETFROM:+0000
TZOFFSETTO:+0000
TZNAME:UTC
DTSTART:20240101T000000
END:STANDARD
END:VTIMEZONE
BEGIN:VEVENT
DTSTART;TZID=UTC:20250320T120000
DTEND;TZID=UTC:20250320T170000
DTSTAMP:20260425T135044
CREATED:20250219T181816Z
LAST-MODIFIED:20250305T015509Z
UID:4891-1742472000-1742490000@padefense.org
SUMMARY:PDI MIDDLE DISTRICT NORTH TO PRESENT MARCH MADNESS @ DAVE & BUSTER'S
DESCRIPTION:You are invited to attend and enjoy a few hours of Tournament Basketball with the opening of the NCAA National Tournament (MARCH MADNESS)\, good conversation\, and cordial camaraderie with fellow attorneys at DAVE & BUSTER’S\, 6000 Shoppes Boulevard\, Moosic\, Pennsylvania.  Enjoy some refreshing drinks and appetizers as you root on your favorite teams.  Also enjoy meeting and networking with PDI Statewide Sponsors.  This will be an enjoyable and relaxing event with friends and colleagues.  MAKE YOUR RESERVATION NOW. \nYou can register for this event in one of the following ways: \nREGISTRATION METHODS: \nComplete Form and mail to “PDI” to: Pennsylvania Defense Institute\,  P.O. Box 6099\, Harrisburg\, PA 17112 and e-mail Registration to cwasilefski@padefense.org or lgamby@padefense.org. \nNAME(S) ______________________________________________________________  \nFIRM _________________________________________________________________  \nE-Mail _______________________________________________________ \n  \nFor additional information\, contact PDI \nPennsylvania Defense Institute \nP.O. Box 6099\, Harrisburg\, PA 17112 \n717-579-0343 (P)  \ncwasilefski@padefense.org \nlgamby@padefense.org
URL:https://padefense.org/event/pdi-middle-district-north-to-present-cle-and-march-madness-social/
CATEGORIES:Social Event
END:VEVENT
BEGIN:VEVENT
DTSTART;TZID=UTC:20250320T163000
DTEND;TZID=UTC:20250320T193000
DTSTAMP:20260425T135044
CREATED:20250310T155002Z
LAST-MODIFIED:20250313T182127Z
UID:4906-1742488200-1742499000@padefense.org
SUMMARY:VERSED AND PDI PRESENTS PHILADELPHIA MARCH MADNESS SOCIAL
DESCRIPTION:PDI Sponsor\, VERSED\, is sponsoring and inviting PDI Members to a Philadelphia March Madness Social.  The event will be held at The Mulberry\, 1835 Arch Street\, Philadelphia\, PA starting at 4:30 p.m..  Stop by for an open bar\, light appetizers\, and a lot of basketball\, good conversation with colleagues\, and just plain fun and relaxation.  DO NOT MISS THIS EVENT!! \nDownload the PDF form here >>
URL:https://padefense.org/event/versed-and-pdi-presents-philadelphia-march-madness-social/
CATEGORIES:Social Event
END:VEVENT
END:VCALENDAR