BEGIN:VCALENDAR
VERSION:2.0
PRODID:-//The Pennsylvania Defense Institute - ECPv6.15.20//NONSGML v1.0//EN
CALSCALE:GREGORIAN
METHOD:PUBLISH
X-WR-CALNAME:The Pennsylvania Defense Institute
X-ORIGINAL-URL:https://padefense.org
X-WR-CALDESC:Events for The Pennsylvania Defense Institute
REFRESH-INTERVAL;VALUE=DURATION:PT1H
X-Robots-Tag:noindex
X-PUBLISHED-TTL:PT1H
BEGIN:VTIMEZONE
TZID:UTC
BEGIN:STANDARD
TZOFFSETFROM:+0000
TZOFFSETTO:+0000
TZNAME:UTC
DTSTART:20230101T000000
END:STANDARD
END:VTIMEZONE
BEGIN:VEVENT
DTSTART;TZID=UTC:20240822T120000
DTEND;TZID=UTC:20240822T130000
DTSTAMP:20260426T013154
CREATED:20240614T161828Z
LAST-MODIFIED:20240805T123528Z
UID:4739-1724328000-1724331600@padefense.org
SUMMARY:PDI LUNCH TIME WEBINAR - PDI PLATINUM SPONSOR MINNESOTA LAWYERS MUTUAL INSURANCE TO PRESENT ETHICS WEBINAR - THURSDAY\, AUGUST 22\, 2024 - "ETHICS-SUPERVISING LAWYERS AND STAFF IN THE AGE OF REMOTE WORKING AND CHATGPT"
DESCRIPTION:Effective supervision is crucial for ensuring the success of a legal practice. With the advent of innovative technologies\, such as remote working tools and ChatGPT\, legal professionals have a unique opportunity to enhance their remote supervisory skills and streamline their management approaches. This seminar is designed to equip legal professionals\, including law firm partners\, senior attorneys\, and legal administrators\, with the essential knowledge and practical strategies to effectively supervise and lead their teams who may be working remotely\, and using problematic tools like ChatGPT and similar language models. \nTodd C. Scott\, VP Risk Management of MLM will explore the following key topics: \n\nAdapting supervision techniques to the virtual workspace and understanding the unique challenges and advantages of remote supervision.\nDeveloping strategies for effective communication and collaboration.\nEstablishing clear expectations and performance metrics in a virtual environment.\nPromoting data privacy and security in remote setting and promoting data privacy and security in remote settings.\nImplementing best practices for responsible AI usage.\nEstablishing guidelines for human oversight and intervention in AI-assisted workflows.\nTraining legal professionals on the responsible use of ChatGPT.\n\n\n\n\n\n\n\n\n\n\n\n>> Download The PDF Registration\n\n\n\n\n\n\n\n\n\n\n\n\n 
URL:https://padefense.org/event/pdi-lunch-time-webinar-pdi-platinum-sponsor-minnesota-lawyers-mutual-insurance-to-present-ethics-webinar-thursday-august-22-2024-ethics-supervising-lawyers-and-staff-in-the-age-of-remote-wor/
CATEGORIES:Webinar
END:VEVENT
END:VCALENDAR