BEGIN:VCALENDAR
VERSION:2.0
PRODID:-//The Pennsylvania Defense Institute - ECPv6.15.20//NONSGML v1.0//EN
CALSCALE:GREGORIAN
METHOD:PUBLISH
X-WR-CALNAME:The Pennsylvania Defense Institute
X-ORIGINAL-URL:https://padefense.org
X-WR-CALDESC:Events for The Pennsylvania Defense Institute
REFRESH-INTERVAL;VALUE=DURATION:PT1H
X-Robots-Tag:noindex
X-PUBLISHED-TTL:PT1H
BEGIN:VTIMEZONE
TZID:UTC
BEGIN:STANDARD
TZOFFSETFROM:+0000
TZOFFSETTO:+0000
TZNAME:UTC
DTSTART:20240101T000000
END:STANDARD
END:VTIMEZONE
BEGIN:VEVENT
DTSTART;TZID=UTC:20251212T120000
DTEND;TZID=UTC:20251212T130000
DTSTAMP:20260425T015345
CREATED:20251014T181308Z
LAST-MODIFIED:20251107T180829Z
UID:5094-1765540800-1765544400@padefense.org
SUMMARY:PDI LUNCH TIME WEBINAR - PDI WORKERS' COMPENSATION COMMITTEE - "UNDOCUMENTED WORKERS AND THE PA WORKERS' COMPENSATION ACT"
DESCRIPTION:PDI Workers’ Compensation Committee will present a one hour webinar on the issue of undocumented workers and the Pa. Workers’ Compensation Act.  Stephen F. Moore\, Esquire of Peters & Wasilefski will moderate a discussion with Neil T. Dombrowski\, Esquire of The Dombrowski Group and Daniel P. Ryan\, C.P.A.\, Certified Forensics Accountant\, DABFA\, CGMA.  The panel will address the legal implications of an individual being an undocumented workers as related to the Pa. Workers’ Compensation Act and the Employer’s burden to establish that the individual is ineligible to work and its impact upon a Claimant’s claim for benefits.  Mr. Ryan has served as an expert and has document review expertise.  He has testified in numerous workers’ compensation proceedings on whether or not a given individual is work eligible in the United States.  The presentation will address both legal requirements and strategy and the nuances of presenting expert testimony n this topic.  This presentation is beneficial for workers’ compensation practitioners\, claims professionals\, and risk managers. \nDownload the PDF form here >>
URL:https://padefense.org/event/pdi-lunch-time-webinar-pdi-workers-compensation-committee-undocumented-workers-and-the-pa-workers-compensation-act/
CATEGORIES:Webinar
END:VEVENT
END:VCALENDAR