BEGIN:VCALENDAR
VERSION:2.0
PRODID:-//The Pennsylvania Defense Institute - ECPv6.15.20//NONSGML v1.0//EN
CALSCALE:GREGORIAN
METHOD:PUBLISH
X-WR-CALNAME:The Pennsylvania Defense Institute
X-ORIGINAL-URL:https://padefense.org
X-WR-CALDESC:Events for The Pennsylvania Defense Institute
REFRESH-INTERVAL;VALUE=DURATION:PT1H
X-Robots-Tag:noindex
X-PUBLISHED-TTL:PT1H
BEGIN:VTIMEZONE
TZID:UTC
BEGIN:STANDARD
TZOFFSETFROM:+0000
TZOFFSETTO:+0000
TZNAME:UTC
DTSTART:20250101T000000
END:STANDARD
END:VTIMEZONE
BEGIN:VEVENT
DTSTART;TZID=UTC:20260422T120000
DTEND;TZID=UTC:20260422T130000
DTSTAMP:20260425T164809
CREATED:20260223T220005Z
LAST-MODIFIED:20260317T125419Z
UID:5186-1776859200-1776862800@padefense.org
SUMMARY:PDI LUNCH TIME WEBINAR - "Commercial Vehicle Accident Analysis" - APRIL 22\, 2026 @ 12:00 P.M.
DESCRIPTION:Tracie Eckstein Jones\, ACTAR\, CFEI from RIMKUS will present this webinar designed to describe the necessity for commercial vehicle accident reconstruction and the methodologies involved in conducting a successful commercial vehicle accident reconstruction.  She will use case studies to illustrate  and demonstrate the methodologies utilized and presented. \nMs. Jones holds a B.S. in Mechanical Engineering and Psychology and served as a police officer for 20 years and during her tenure as a police officer has investigated hundreds of serious and fatal vehicle collisions for the Baltimore County Police Department involving motor vehicles\, commercial vehicles\, motorcycles\, and pedestrians.  She is a certified Child Seat Safety Technician proving her with special knowledge in the inspection of child safety seats. \nMs. Jones’ areas of expertise include private motor vehicle\, commercial motor vehicle\, motorcycle\, and pedestrian/bicycle v. vehicle crash reconstruction. She is experienced in Event Data Recorder analysis for passenger vehicles and heavy truck engines\, seatbelt analysis\, and rollover crash reconstruction.  She also has extensive training and experience with crash scene mapping using a total station and a 3D laser mapping system. \nDO NOT MISS THIS VERY INFORMATIVE WEBINAR.  GET 1 PACLE CREDIT.  BE ON THE LOOKOUT FOR REGISTRATION MATERIALS TO BE SENT IN THE NEAR FUTURE. \nDownload the PDF form here >>
URL:https://padefense.org/event/pdi-lunch-time-webinar-commercial-vehicle-accident-analysis-april-22-2026-1200-p-m/
CATEGORIES:Webinar
END:VEVENT
END:VCALENDAR