BEGIN:VCALENDAR
VERSION:2.0
PRODID:-//The Pennsylvania Defense Institute - ECPv6.15.20//NONSGML v1.0//EN
CALSCALE:GREGORIAN
METHOD:PUBLISH
X-WR-CALNAME:The Pennsylvania Defense Institute
X-ORIGINAL-URL:https://padefense.org
X-WR-CALDESC:Events for The Pennsylvania Defense Institute
REFRESH-INTERVAL;VALUE=DURATION:PT1H
X-Robots-Tag:noindex
X-PUBLISHED-TTL:PT1H
BEGIN:VTIMEZONE
TZID:UTC
BEGIN:STANDARD
TZOFFSETFROM:+0000
TZOFFSETTO:+0000
TZNAME:UTC
DTSTART:20230101T000000
END:STANDARD
END:VTIMEZONE
BEGIN:VEVENT
DTSTART;TZID=UTC:20250515T160000
DTEND;TZID=UTC:20250515T190000
DTSTAMP:20260425T123331
CREATED:20250303T202950Z
LAST-MODIFIED:20250410T221449Z
UID:4900-1747324800-1747335600@padefense.org
SUMMARY:PDI MIDDLE DISTRICT NORTH CIGAR AND BOURBON SOCIAL - THURSDAY\, MAY 1\, 2025 CLE - 4:00 P.M. - SOCIAL 5:00 P.M. @ SCRANTON CLUB
DESCRIPTION:PDI Middle District North will host and present a CLE and networking social on Thursday\, May 1\, 2015 – CLE – 4:00 p.m. and Social – 5:00 p.m. at The Scranton Club.  Come and obtain 1 PACLE credit and enjoy the camaraderie with fellow attorneys.  Topic of the CLE\, and speakers TBA.  BE ON THE LOOKOUT FOR ADDITIONAL INFORMATION AND REGISTRATION FORMS.
URL:https://padefense.org/event/pdi-middle-district-north-cigar-and-bourbon-social-thursday-may-1-2025-cle-400-p-m-social-500-p-m-scranton-club/
CATEGORIES:Continuing Legal Education,Social Event
END:VEVENT
BEGIN:VEVENT
DTSTART;TZID=UTC:20250509T080000
DTEND;TZID=UTC:20250509T120000
DTSTAMP:20260425T123331
CREATED:20250219T175606Z
LAST-MODIFIED:20250403T122201Z
UID:4888-1746777600-1746792000@padefense.org
SUMMARY:PDI/PADC HOSTS OSHA TRAINING FOR CLE AND OSHA CERTIFICATE
DESCRIPTION:PDI and PADC are jointly presenting a new program for the PDI/PADC Members and their clients.  PDI/PADC will host “OSHA 10 Construction Training” presented by Lancaster Safety Consulting\, Inc. on Thursday and Friday\, May 8 and 9 in the Large Conference Center\, 1515 Market Street\, Suite 2050\, Philadelphia\, PA  19102.  The program offers instruction on hazard identification\, avoidance and control\, and responsibilities under OSHA.  Topic areas to be covered will include:  OSHA Focus Four Hazards (Falls\, Electrocution\, Struck-By [e.g. falling objects\, trucks\, cranes)\, Caught-in or Between (e.g. trench hazards\, equipment); Personal Protection and Lifesaving Equipment; Health Hazards in Construction; Cranes\, Derricks\, Hoists\, Elevators and Conveyors; Excavations; Materials Handling\, Storage\, Use and Disposal; Scaffolds; Stairways and Ladders; and Tools-Hand and Power.  The program is intended for liability defense counsel and their clients involved n construction and products liability litigation.  Ten substantive PACLE credits are offered to attorney attendees and OSHA training certification is offered to all attendees.  Lunch on May 8 is included in the cost of registration. This program offers a unique opportunity to learn about the construction site rules and regulations\, better prepare our clients in construction site operation and arm defense counsel with the information to defend our clients against litigation.  WATCH FOR REGISTRATION INFORMATION and plan on attending this unique event.  The cost will be $275. \nDownload the PDF form here >>
URL:https://padefense.org/event/pdi-padc-hosts-osha-training-for-cle-and-osha-certificate/
CATEGORIES:Continuing Legal Education
END:VEVENT
BEGIN:VEVENT
DTSTART;TZID=UTC:20250508T080000
DTEND;TZID=UTC:20250508T170000
DTSTAMP:20260425T123331
CREATED:20250219T175211Z
LAST-MODIFIED:20250219T175801Z
UID:4884-1746691200-1746723600@padefense.org
SUMMARY:PDI/PADC HOSTS OSHA TRAINING FOR CLE AND OSHA CERTIFICATE
DESCRIPTION:PDI and PADC are jointly presenting a new program for the PDI/PADC Members and their clients.  PDI/PADC will host “OSHA 10 Construction Training” presented by Lancaster Safety Consulting\, Inc. on Thursday and Friday\, May 8 and 9 in the Large Conference Center\, 1515 Market Street\, Suite 2050\, Philadelphia\, PA  19102.  The program offers instruction on hazard identification\, avoidance and control\, and responsibilities under OSHA.  Topic areas to be covered will include:  OSHA Focus Four Hazards (Falls\, Electrocution\, Struck-By [e.g. falling objects\, trucks\, cranes)\, Caught-in or Between (e.g. trench hazards\, equipment); Personal Protection and Lifesaving Equipment; Health Hazards in Construction; Cranes\, Derricks\, Hoists\, Elevators and Conveyors; Excavations; Materials Handling\, Storage\, Use and Disposal; Scaffolds; Stairways and Ladders; and Tools-Hand and Power.  The program is intended for liability defense counsel and their clients involved n construction and products liability litigation.  Ten substantive PACLE credits are offered to attorney attendees and OSHA training certification is offered to all attendees.  Lunch on May 8 is included in the cost of registration. This program offers a unique opportunity to learn about the construction site rules and regulations\, better prepare our clients in construction site operation and arm defense counsel with the information to defend our clients against litigation.  WATCH FOR REGISTRATION INFORMATION and plan on attending this unique event.  The cost will be $275.
URL:https://padefense.org/event/pdi-padc-jointly-presents-osha-10-construction-training/
CATEGORIES:Continuing Legal Education
END:VEVENT
BEGIN:VEVENT
DTSTART;TZID=UTC:20250507T100000
DTEND;TZID=UTC:20250507T120000
DTSTAMP:20260425T123331
CREATED:20240916T205602Z
LAST-MODIFIED:20240916T210853Z
UID:4799-1746612000-1746619200@padefense.org
SUMMARY:PDI BOARD MEETING
DESCRIPTION:
URL:https://padefense.org/event/pdi-executive-committee-meeting-14/
CATEGORIES:Board Meeting,Executive Committee Meeting
END:VEVENT
BEGIN:VEVENT
DTSTART;TZID=UTC:20250506T120000
DTEND;TZID=UTC:20250506T130000
DTSTAMP:20260425T123331
CREATED:20250328T175712Z
LAST-MODIFIED:20250404T152533Z
UID:4921-1746532800-1746536400@padefense.org
SUMMARY:PDI LUNCH TIME WEBINAR - "VENUE AND FORUM NON CONVENIENS:  NAVIGATING PENNSYLVANIA'S LATEST UPDATES"
DESCRIPTION:Jonathan B. Stepanian\, McQuaide Blasko\, will present “Venue and Forum Non Conveniens: Navigating Pennsylvania’s Latest Updates”.  This program provides an overview of recent legal developments regarding venue and forum non conveniens in Pennsylvania. Attendees will gain insights into key case law updates\, strategic considerations for defense counsel\, and pratical implications for raising venue defenses\, including in medical professional liability cases. \nDownload the PDF form here >>
URL:https://padefense.org/event/pdi-lunch-time-webinar-venue-and-forum-non-conveniens-navigating-pennsylvanias-latest-updates/
CATEGORIES:Webinar
END:VEVENT
BEGIN:VEVENT
DTSTART;TZID=UTC:20250417T170000
DTEND;TZID=UTC:20250417T200000
DTSTAMP:20260425T123331
CREATED:20250407T172235Z
LAST-MODIFIED:20250407T172235Z
UID:4958-1744909200-1744920000@padefense.org
SUMMARY:PDI WEST DISTRICT AND VERSED PRESENT SPECIAL SOCIAL EVENT - APRIL 17\, 2025 FROM 5:00 P.M. TO 8:00 P.M. @ CITY WORKS\, 2 PPG PLACE\, PITTSBURGH
DESCRIPTION:PDI sponsor VERSED has made arrangements for a fantastic social event to take place on Thursday\, April 17\, 2025 @ City Works\, 2PPG Place\, Pittsburgh\, PA from 5:00 p.m. to 8:00 p.m.  There will be an open bar and delicious bites to eat.  This promises to be a great event to meet\, socialize and share good conversation with your colleagues. \nPDI thanks VERSED for sponsoring this event and inviting the PDI members to join in the fun. \nREGISTRATION AND PAYMENT METHODS: \nComplete Form and e-mail Registration to Abbey Johnson at ajohnson@versedexperts.com . \nNAME(S) ______________________________________________________________  \nFIRM _________________________________________________________________  \nE-Mail _______________________________________________________ \nPlease make an effort to attend this fun and relaxing event.
URL:https://padefense.org/event/pdi-west-district-and-versed-present-special-social-event-april-17-2025-from-500-p-m-to-800-p-m-city-works-2-ppg-place-pittsburgh/
CATEGORIES:Social Event
END:VEVENT
BEGIN:VEVENT
DTSTART;TZID=UTC:20250326T120000
DTEND;TZID=UTC:20250326T133000
DTSTAMP:20260425T123331
CREATED:20250206T201844Z
LAST-MODIFIED:20250313T182738Z
UID:4880-1742990400-1742995800@padefense.org
SUMMARY:PDI CLE LUNCHEON - PDI SPONSOR ARRCA PRESENTS LIVE CLE "Assessing Injury Causation:  The Role of the Biomechanical Engineer"
DESCRIPTION:PDI and ARCCA will present a live Lunch and Learn Program at Maggiano’s Little Italy Restaurant\, 12th and Filbert Street\, Philadelphia\, PA on March26\, 2025.  The Program is entitled: “Assessing Injury Causation:  The Role of the Bio-mechanical Engineer”.  Speakers are Scott Schneider\, moderator\, and Featured Speaker Dr. Jacqueline Lewis Devine from ARCCA.  The presentation will include s biomedical analysis of injury causation involving understanding the severity of the incident\, individual response\, and the presence or absence of the required injury mechanism in the context of human tolerance and an individual unique bio-mechanical attributes.  This presentation will explore each of these areas and outline the foundational methods and tools often used by ARCCA experts. An emphasis will be placed on understanding the concept of an injury mechanism and its critical role n determining a cause and effect relationship.  WATCH FOR REGISTRATION INFORMATION. \nDownload the PDF form here >>
URL:https://padefense.org/event/pdi-cle-luncheon-pdi-sponsor-arrca-presents-live-cle-on-biomechanics/
CATEGORIES:Continuing Legal Education
END:VEVENT
BEGIN:VEVENT
DTSTART;TZID=UTC:20250321T120000
DTEND;TZID=UTC:20250321T130000
DTSTAMP:20260425T123331
CREATED:20250303T202225Z
LAST-MODIFIED:20250313T183449Z
UID:4897-1742558400-1742562000@padefense.org
SUMMARY:PDI LUNCH TIME WEBINAR - MINNESOTA LAWYERS MUTUAL ETHICS PRESENTATION - Topic to be Announced - Friday\, March 21\, 2025 @ 12:00 P.M. VIA ZOOM
DESCRIPTION:Todd Scott\, Esquire\, Vice President of Risk Management\, Minnesota Lawyers Mutual Insurance Company\, will present an ethics webinar on a topic “Legal Malpractice Trends in 2025”. \nA recent report from the ABA reveals startling new trends in professional liability for attorneys.  Minnesota Lawyers Mutual Insurance Company (MLM) Vice President Risk Management Todd C. Scott\, Esquire\, will provide information regarding which areas of practice suddenly became the riskiest practice area after 4 decades of claim reporting and the errors mot frequently made by attorneys.  This program will identify the latest trends leading to malpractice claims and ethics complaints against attorneys and will also provide best practices advice for lowering the risk of malpractice in your legal practice. \nDownload the PDF form here >>
URL:https://padefense.org/event/pdi-lunch-time-webinar-minnesota-lawyers-mutual-ethics-presentation-topic-to-be-announced-friday-march-21-2025-1200-p-m-via-zoom/
CATEGORIES:Continuing Legal Education
END:VEVENT
BEGIN:VEVENT
DTSTART;TZID=UTC:20250320T163000
DTEND;TZID=UTC:20250320T193000
DTSTAMP:20260425T123331
CREATED:20250310T155002Z
LAST-MODIFIED:20250313T182127Z
UID:4906-1742488200-1742499000@padefense.org
SUMMARY:VERSED AND PDI PRESENTS PHILADELPHIA MARCH MADNESS SOCIAL
DESCRIPTION:PDI Sponsor\, VERSED\, is sponsoring and inviting PDI Members to a Philadelphia March Madness Social.  The event will be held at The Mulberry\, 1835 Arch Street\, Philadelphia\, PA starting at 4:30 p.m..  Stop by for an open bar\, light appetizers\, and a lot of basketball\, good conversation with colleagues\, and just plain fun and relaxation.  DO NOT MISS THIS EVENT!! \nDownload the PDF form here >>
URL:https://padefense.org/event/versed-and-pdi-presents-philadelphia-march-madness-social/
CATEGORIES:Social Event
END:VEVENT
BEGIN:VEVENT
DTSTART;TZID=UTC:20250320T120000
DTEND;TZID=UTC:20250320T170000
DTSTAMP:20260425T123331
CREATED:20250219T181816Z
LAST-MODIFIED:20250305T015509Z
UID:4891-1742472000-1742490000@padefense.org
SUMMARY:PDI MIDDLE DISTRICT NORTH TO PRESENT MARCH MADNESS @ DAVE & BUSTER'S
DESCRIPTION:You are invited to attend and enjoy a few hours of Tournament Basketball with the opening of the NCAA National Tournament (MARCH MADNESS)\, good conversation\, and cordial camaraderie with fellow attorneys at DAVE & BUSTER’S\, 6000 Shoppes Boulevard\, Moosic\, Pennsylvania.  Enjoy some refreshing drinks and appetizers as you root on your favorite teams.  Also enjoy meeting and networking with PDI Statewide Sponsors.  This will be an enjoyable and relaxing event with friends and colleagues.  MAKE YOUR RESERVATION NOW. \nYou can register for this event in one of the following ways: \nREGISTRATION METHODS: \nComplete Form and mail to “PDI” to: Pennsylvania Defense Institute\,  P.O. Box 6099\, Harrisburg\, PA 17112 and e-mail Registration to cwasilefski@padefense.org or lgamby@padefense.org. \nNAME(S) ______________________________________________________________  \nFIRM _________________________________________________________________  \nE-Mail _______________________________________________________ \n  \nFor additional information\, contact PDI \nPennsylvania Defense Institute \nP.O. Box 6099\, Harrisburg\, PA 17112 \n717-579-0343 (P)  \ncwasilefski@padefense.org \nlgamby@padefense.org
URL:https://padefense.org/event/pdi-middle-district-north-to-present-cle-and-march-madness-social/
CATEGORIES:Social Event
END:VEVENT
BEGIN:VEVENT
DTSTART;TZID=UTC:20250312T100000
DTEND;TZID=UTC:20250312T120000
DTSTAMP:20260425T123331
CREATED:20240916T205419Z
LAST-MODIFIED:20240916T205419Z
UID:4797-1741773600-1741780800@padefense.org
SUMMARY:PDI BOARD MEETING
DESCRIPTION:
URL:https://padefense.org/event/pdi-board-meeting-24/
CATEGORIES:Board Meeting
END:VEVENT
BEGIN:VEVENT
DTSTART;TZID=UTC:20250304T120000
DTEND;TZID=UTC:20250304T190000
DTSTAMP:20260425T123331
CREATED:20250127T193805Z
LAST-MODIFIED:20250225T134103Z
UID:4874-1741089600-1741114800@padefense.org
SUMMARY:PROJECT LITIGATE EVENT - "Stepping Up and Standing Out:  Branding Your Legal Career"
DESCRIPTION:PDI and PADC has organized a Project LITIGATE Eevent that will provide three (3) PACLE credits including such topics as branding within the firm and the legal community\, information regarding the attorneys participating in appellate appellate arguments through the eyes of an experience appellate attorney and an assisting associate\, in conjunction with opportunity to observe Supreme Court arguments at City Hall on the date of the event\, and a panel discussion regarding the need and benefits to be provided by Project LITIGATE\, featuring Justice Donohue\, Pa. Supreme Court\, Judge McNally\, Court of Common Pleas for Dauphin County and Judge Reichley\, Court of Common Pleas for Lehigh County.  A Happy Hour will follow immediately after the CLE presentations for networking opportunities.  It is encourage that participants attend in person but the presentations will be provided live virtually for those from outside of the PDI East District and unable to attend in person.  The Exact TIme of the Events and Location will be announced in the near future. \nDownload the PDF form here >>
URL:https://padefense.org/event/project-litigate-event-stepping-up-and-stand-out-branding-your-legal-career/
CATEGORIES:Continuing Legal Education
END:VEVENT
BEGIN:VEVENT
DTSTART;TZID=UTC:20250224T120000
DTEND;TZID=UTC:20250224T130000
DTSTAMP:20260425T123331
CREATED:20241220T215845Z
LAST-MODIFIED:20241220T215845Z
UID:4866-1740398400-1740402000@padefense.org
SUMMARY:PDI EAST DISTRICT LAW STUDENT CONFERENCE - TEMPLE SCHOOL OF LAW - MONDAY\, FEBRUARY 24\, 2025 - 12:00 P.M. TO 1:00 P.M.
DESCRIPTION:On Monday\, February 24\, 2025\, the PDI East District in conjunction with PADC and Temple School of Law will host a law school discussion by a panel of defense attorneys to discuss the option of a career on the civil defense side of the spectrum.  The presentation will be made to Law Students at the Temple School of Law.  Refreshments will be provided.
URL:https://padefense.org/event/pdi-east-district-law-student-conference-temple-school-of-law-monday-february-24-2025-1200-p-m-to-100-p-m/
CATEGORIES:Law Student Conference
END:VEVENT
BEGIN:VEVENT
DTSTART;TZID=UTC:20250213T120000
DTEND;TZID=UTC:20250213T130000
DTSTAMP:20260425T123331
CREATED:20241220T215056Z
LAST-MODIFIED:20241220T215056Z
UID:4863-1739448000-1739451600@padefense.org
SUMMARY:PDI EAST DISTRICT LAW STUDENT CONFERENCE - DREXEL SCHOOL OF LAW - THURSDAY\, FEBRUARY 13\, 2025 - 12:00 P.M. TO 1:00 P.M.
DESCRIPTION:On Thursday\, February 13\, 2025\, the PDI East District in conjunction with PADC and Drexel School of Law will host a law school discussion by a panel of defense attorneys to discuss the option of a career on the civil defense side of the spectrum.  The presentation will be made to Law Students at the Drexel School of Law.  Refreshments will be provided.
URL:https://padefense.org/event/pdi-east-district-law-student-conference-drexel-school-of-law-thursday-february-13-2025-1200-p-m-to-100-p-m/
CATEGORIES:Law Student Conference
END:VEVENT
BEGIN:VEVENT
DTSTART;TZID=UTC:20250205T120000
DTEND;TZID=UTC:20250205T130000
DTSTAMP:20260425T123331
CREATED:20241220T214434Z
LAST-MODIFIED:20241220T215323Z
UID:4860-1738756800-1738760400@padefense.org
SUMMARY:PDI EAST DISTRICT LAW STUDENT CONFERENCE - VILLANOVA SCHOOL OF LAW - WEDNESDAY\, FEBRUARY 5\, 2025 - 12:00 P.M. TO 1:00 P.M.
DESCRIPTION:On Wednesday\, February 5\, 2025\, the PDI East District in conjunction with PADC and Villanova School of Law will host a law school discussion by a panel of defense attorneys to discuss the option of a career on the civil defense side of the spectrum.  The presentation will be made to Law Students at the Villanova School of Law.  Refreshments will be provided.
URL:https://padefense.org/event/pdi-east-district-law-student-conference-villanova-school-of-law/
CATEGORIES:Law Student Conference
END:VEVENT
BEGIN:VEVENT
DTSTART;TZID=UTC:20250205T100000
DTEND;TZID=UTC:20250205T120000
DTSTAMP:20260425T123331
CREATED:20240916T205315Z
LAST-MODIFIED:20240916T205315Z
UID:4795-1738749600-1738756800@padefense.org
SUMMARY:PDI EXECUTIVE COMMITTEE MEETING
DESCRIPTION:
URL:https://padefense.org/event/pdi-executive-committee-meeting-13/
CATEGORIES:Executive Committee Meeting
END:VEVENT
BEGIN:VEVENT
DTSTART;TZID=UTC:20250204T123000
DTEND;TZID=UTC:20250204T133000
DTSTAMP:20260425T123331
CREATED:20241213T190244Z
LAST-MODIFIED:20241213T190244Z
UID:4858-1738672200-1738675800@padefense.org
SUMMARY:PDI WEST DISTRICT LAW SCHOOL CONFERENCE - UNIVERSITY OF PITTSBURGH SCHOOL OF LAW - TUESDAY\, FEBRUARY 4\, 2025 - 12:30 P.M. TO 1:30 P.M.
DESCRIPTION:On Tuesday\, February 4\, 2025\, the PDI West District will host a law school discussion by a panel of defense attorneys to discuss the option of a career on the civil defense side of the spectrum.  The PDI panel will include:  Kassie Segmiller\, Esquire\, Segmiller & Associates; Sarah Cobbs\, Esquire\, Thomas Thomas & Hafer; Joseph Hudock\, Summers McDonnell; and Daniel Twilla\, Esquire\, Gordon Rees.  The presentation will be made to Law Students at the University of Pittsburgh School of Law.
URL:https://padefense.org/event/pdi-west-district-law-school-conference-university-of-pittsburgh-school-of-law-tuesday-february-4-2025-1230-p-m-to-130-p-m/
CATEGORIES:Law Student Conference
END:VEVENT
BEGIN:VEVENT
DTSTART;TZID=UTC:20250108T100000
DTEND;TZID=UTC:20250108T120000
DTSTAMP:20260425T123331
CREATED:20240916T205212Z
LAST-MODIFIED:20240916T205212Z
UID:4793-1736330400-1736337600@padefense.org
SUMMARY:PDI BOARD MEETING
DESCRIPTION:
URL:https://padefense.org/event/pdi-board-meeting-23/
CATEGORIES:Board Meeting
END:VEVENT
BEGIN:VEVENT
DTSTART;TZID=UTC:20241218T170000
DTEND;TZID=UTC:20241218T190000
DTSTAMP:20260425T123331
CREATED:20241108T171242Z
LAST-MODIFIED:20241206T144139Z
UID:4836-1734541200-1734548400@padefense.org
SUMMARY:PDI WEST DISTRICT CLE AND HOLIDAY PARTY - PITTSBURGH
DESCRIPTION:Download the PDF form here >>
URL:https://padefense.org/event/pdi-west-district-cle-and-holiday-party/
CATEGORIES:Social Event
END:VEVENT
BEGIN:VEVENT
DTSTART;TZID=UTC:20241212T173000
DTEND;TZID=UTC:20241212T193000
DTSTAMP:20260425T123331
CREATED:20240916T205107Z
LAST-MODIFIED:20241111T135041Z
UID:4791-1734024600-1734031800@padefense.org
SUMMARY:PDI/PAJ MIDDLE DISTRICT HOLIDAY PARTY- HARRISBURG
DESCRIPTION:Download the PDF form here >>
URL:https://padefense.org/event/pdi-paj-holiday-party/
CATEGORIES:Social Event
END:VEVENT
BEGIN:VEVENT
DTSTART;TZID=UTC:20241205T120000
DTEND;TZID=UTC:20241205T130000
DTSTAMP:20260425T123331
CREATED:20240614T162603Z
LAST-MODIFIED:20241108T141245Z
UID:4741-1733400000-1733403600@padefense.org
SUMMARY:PDI LUNCH TIME WEBINAR - PDI PLATINUM SPONSOR MINNESOTA LAWYERS MUTUAL INSURANCE CO. PRESENTS ETHICS WEBINAR - THURSDAY\, DECEMBER 5\, 2024 @ 12:00 P.M. - "EMBRACING CHANGE: 7 TECH TRENDS & 29 TECH TIPS IN 2024"
DESCRIPTION:Todd C. Scott\, Vice President Risk Management for MLM\, will discuss the everchanging developments in technology as it relates to the practice of law.  Much change has come in the technology available for lawyers in the post-pandemic era. So\, where might we be going from here? And what does 2024 have in store for attorneys trying to stay windward of the tidal change happening with law office workflows? Humbly\, we have identified 7 legal tech trends that will bring transformational change to lawyers and law firm processes everywhere. \nDownload the PDF form here >>
URL:https://padefense.org/event/pdi-lunch-time-webinar-pdi-platinum-sponsor-minnesota-lawyers-mutual-insurance-co-presents-ethics-webinar-thursday-december-5-2024-1200-p-m-embracing-change-7-tech-trends-29-tech-tip/
CATEGORIES:Webinar
END:VEVENT
BEGIN:VEVENT
DTSTART;TZID=UTC:20241204T100000
DTEND;TZID=UTC:20241204T120000
DTSTAMP:20260425T123331
CREATED:20240916T204942Z
LAST-MODIFIED:20240916T204942Z
UID:4789-1733306400-1733313600@padefense.org
SUMMARY:PDI EXECUTIVE COMMITTEE MEETING
DESCRIPTION:
URL:https://padefense.org/event/pdi-executive-committee-meeting-12/
CATEGORIES:Executive Committee Meeting
END:VEVENT
BEGIN:VEVENT
DTSTART;TZID=UTC:20241203T173000
DTEND;TZID=UTC:20241203T200000
DTSTAMP:20260425T123331
CREATED:20240916T204720Z
LAST-MODIFIED:20241111T135609Z
UID:4787-1733247000-1733256000@padefense.org
SUMMARY:PDI/PTLA/PADC EAST DISTRICT HOLIDAY PARTY
DESCRIPTION:Download the PDF form here >>
URL:https://padefense.org/event/pdi-ptla-padc-holiday-party/
CATEGORIES:Social Event
END:VEVENT
BEGIN:VEVENT
DTSTART;TZID=UTC:20241120T120000
DTEND;TZID=UTC:20241120T133000
DTSTAMP:20260425T123331
CREATED:20241018T152321Z
LAST-MODIFIED:20241027T175016Z
UID:4825-1732104000-1732109400@padefense.org
SUMMARY:PDI LUNCH TIME WEBINAR - "Searching for AI:  Case Management Tips For Existing Litigation's AI Issues"
DESCRIPTION:Gregory P. Graham\, Esquire\, Marshall Dennehey Warner Coleman & Goggin\, will share his expertise regarding Case Management in the use of AI during Litigation and the issues associated with that use.  This will be an extension of the presentation that Mr. Graham made at the 2024 PDI Annual CLE & Conference in Bedford Springs.  Do not miss that very informative presentation regarding litigation issues related to the use of AI during litigation.  Look for Registration information that will be provided in the near future. \nDownload the PDF form here >>
URL:https://padefense.org/event/pdi-lunch-time-webinar-searching-for-ai-case-management-tips-for-existing-litigations-ai-issues/
CATEGORIES:Continuing Legal Education
END:VEVENT
BEGIN:VEVENT
DTSTART;TZID=UTC:20241113T100000
DTEND;TZID=UTC:20241113T120000
DTSTAMP:20260425T123331
CREATED:20240916T204439Z
LAST-MODIFIED:20240916T204439Z
UID:4785-1731492000-1731499200@padefense.org
SUMMARY:PDI BOARD MEETING
DESCRIPTION:
URL:https://padefense.org/event/pdi-board-meeting-22/
END:VEVENT
BEGIN:VEVENT
DTSTART;TZID=UTC:20241030T173000
DTEND;TZID=UTC:20241030T193000
DTSTAMP:20260425T123331
CREATED:20241010T193418Z
LAST-MODIFIED:20241010T193418Z
UID:4820-1730309400-1730316600@padefense.org
SUMMARY:PDI EAST DISTRICT HOSTS "Experts Potpourri - What Expertise is Available" - WEDNESDY\, OCTOBER 30\, 2024 FROM 5:30 P.M. TO 7:30 P.M. @ WADE CLARK MULCAHY\, BUILDING CONFERENCE ROOM\, 1515 MARKET ST\, PHILADELPHIA
DESCRIPTION:Join the Officers and Directors for the PDI East District for an evening of pizza\, beer\, and other beverages and information regarding the various expertise that is available for your cases.  Robert Cosgrove\, Esquire\, Wade Clark Mulcahy\, will host this event that will feature information regarding the various expertise that is available from PDI Sponsors.  You will be exposed to the various areas of expertise that is available to PDI Members.  This is an opportunity to discuss possible solutions to obtaining an expert for your cases.  It will be a social evening with the ability to gain knowledge that could assist you with your cases.  Please register for this event by contacting Chuck Wasilefski at cwasilefski@padefense.org or Linda Gamby at lgamby@padefense.org .  REGISTER NOW!! \nLook forward to seeing you at this event.
URL:https://padefense.org/event/pdi-east-district-hosts-experts-potpourri-what-expertise-is-available-wednesdy-october-30-2024-from-530-p-m-to-730-p-m-wade-clark-mulcahy-building-conference-room-1515-market-st-phi/
CATEGORIES:Social Event
END:VEVENT
BEGIN:VEVENT
DTSTART;TZID=UTC:20241029T120000
DTEND;TZID=UTC:20241029T133000
DTSTAMP:20260425T123331
CREATED:20240927T210201Z
LAST-MODIFIED:20241002T211126Z
UID:4814-1730203200-1730208600@padefense.org
SUMMARY:PRODUCTS LIABILITY UPDATE - FEATURING NEWLY REVISED PDI/PADC SUGGESTED STANDARD JURY INSTRUCTIONS
DESCRIPTION:PDI Products Liability Committee will present a Products Liability Update\, featuring a discussion of recent cases and the effect upon the defense of product liability cases and the Newly Revised Suggested Standard Jury Instructions for Products Liability cases.  The speakers will include William J. Ricci\, Esquire\, Ricci\, Tyrrell\, Johnso & Grey\, James M. Beck\, Esquire\, Reed Smith\, and other panel members to be announced.  Hear from those who were involved in the drafting and revision of the PDI/PADC Suggested Standard Jury Instructions that were developed to assist those attorneys defending a products liability case as a counter to the questionable PBI Products Suggested Standard Jury Instructions.  For a history of the development of the PDI/PADC Suggested Standard Jury Instructions see COUNTERPOINT – September 2024 for an article written by the experienced attorneys who were instrumental in developing these counter jury instructions.  Do not miss this very informative Webinar.  Let the members of your firms who are involved in the defense of product liability cases of the date and time of this Webinar and request that they join to assure that they have the most update information to assist in the handling of Products Liability matters. \nThis is a live Zoom presentation and provides one (1) substantive PACLE credit.  Do not miss this excellent webinar. \nREGISTRATION AND PAYMENT METHODS: \nComplete Form and mail with check payable to “PDI” to: Pennsylvania Defense Institute\,  P.O. Box 6099\, Harrisburg\, PA 17112 and e-mail Registration to cwasilefski@padefense.org \nor lgamby@padefense.org. \nRegister online athttps://us06web.zoom.us/webinar/register/WN_e5y5tvz8Rp-Bv67-3RgnhA and mail a check \, if applicable\, to PDI\, P.O. Box 6099\, Harrisburg\, PA 17112 \nGo to PDI website:  www.padefense.org and register using for provided on Events Page and pay via PayPal \nUpon receipt of Registration and Fee\, Registrant will receive information for joining Webinar and required submission following Webinar via e-mail. \nLook forward to seeing you at this informative webinar. \nDownload the PDF form here >>
URL:https://padefense.org/event/products-liability-update-featuring-newly-revised-pdi-padc-suggested-standard-jury-instructions/
CATEGORIES:Webinar
END:VEVENT
BEGIN:VEVENT
DTSTART;TZID=UTC:20241023T100000
DTEND;TZID=UTC:20241023T120000
DTSTAMP:20260425T123331
CREATED:20241016T153411Z
LAST-MODIFIED:20241016T153411Z
UID:4823-1729677600-1729684800@padefense.org
SUMMARY:PDI EXECUTIVE COMMITTEE MEETING
DESCRIPTION:
URL:https://padefense.org/event/pdi-executive-committee-meeting-16/
CATEGORIES:Executive Committee Meeting
END:VEVENT
BEGIN:VEVENT
DTSTART;TZID=UTC:20241016T100000
DTEND;TZID=UTC:20241016T120000
DTSTAMP:20260425T123331
CREATED:20240916T204340Z
LAST-MODIFIED:20240916T204340Z
UID:4783-1729072800-1729080000@padefense.org
SUMMARY:PDI EXECUTIVE COMMITTEE MEETING
DESCRIPTION:
URL:https://padefense.org/event/pdi-executive-committee-meeting-11/
END:VEVENT
BEGIN:VEVENT
DTSTART;TZID=UTC:20240919T100000
DTEND;TZID=UTC:20240919T120000
DTSTAMP:20260425T123331
CREATED:20240916T204218Z
LAST-MODIFIED:20240916T204218Z
UID:4781-1726740000-1726747200@padefense.org
SUMMARY:PDI BOARD MEETING
DESCRIPTION:
URL:https://padefense.org/event/pdi-board-meeting-21/
CATEGORIES:Board Meeting
END:VEVENT
END:VCALENDAR