BEGIN:VCALENDAR
VERSION:2.0
PRODID:-//The Pennsylvania Defense Institute - ECPv6.15.20//NONSGML v1.0//EN
CALSCALE:GREGORIAN
METHOD:PUBLISH
X-WR-CALNAME:The Pennsylvania Defense Institute
X-ORIGINAL-URL:https://padefense.org
X-WR-CALDESC:Events for The Pennsylvania Defense Institute
REFRESH-INTERVAL;VALUE=DURATION:PT1H
X-Robots-Tag:noindex
X-PUBLISHED-TTL:PT1H
BEGIN:VTIMEZONE
TZID:UTC
BEGIN:STANDARD
TZOFFSETFROM:+0000
TZOFFSETTO:+0000
TZNAME:UTC
DTSTART:20200101T000000
END:STANDARD
END:VTIMEZONE
BEGIN:VEVENT
DTSTART;TZID=UTC:20210929T100000
DTEND;TZID=UTC:20210929T120000
DTSTAMP:20260425T134833
CREATED:20210813T155826Z
LAST-MODIFIED:20210813T155826Z
UID:4069-1632909600-1632916800@padefense.org
SUMMARY:PDI EXECUTIVE COMMITTEE MEETING
DESCRIPTION:
URL:https://padefense.org/event/pdi-executive-committee-meeting-2/
CATEGORIES:Executive Committee Meeting
END:VEVENT
BEGIN:VEVENT
DTSTART;TZID=UTC:20210928T100000
DTEND;TZID=UTC:20210928T120000
DTSTAMP:20260425T134833
CREATED:20210813T160819Z
LAST-MODIFIED:20210813T160819Z
UID:4089-1632823200-1632830400@padefense.org
SUMMARY:PROFESSIONAL LIABILITY COMMITTEE MEETING
DESCRIPTION:
URL:https://padefense.org/event/professional-liability-committee-meeting/
CATEGORIES:Committee
END:VEVENT
BEGIN:VEVENT
DTSTART;TZID=UTC:20210927T120000
DTEND;TZID=UTC:20210927T130000
DTSTAMP:20260425T134833
CREATED:20210909T150509Z
LAST-MODIFIED:20210913T124544Z
UID:4096-1632744000-1632747600@padefense.org
SUMMARY:PDI LUNCH TIME WEBINAR - "“The Basics of Construction Defect Litigation:  A Primer Following the Champlain Towers South Collapse”
DESCRIPTION:Jeffrey M. Stacko\, Esquire of Dinsmore & Shohl\, LLP\,  and Thom McAdams\, Fleisher Forensics\, will present the basics as to prosecution and defense of construction defect litigation in Pennsylvania.  This introductory course will provide a history of major construction defect incidents in the United States.  It will provide participants with common elements in construction defect cases\, such as identities/roles of the parties\, theories of recovery\, and the use of expert testimony.  Do not miss this presentation. \nDownload the paper registration form >> \nRegister Online
URL:https://padefense.org/event/pdi-lunch-time-webinar-the-basics-of-construction-defect-litigation-a-primer-following-the-champlain-towers-south-collapse/
CATEGORIES:Webinar
END:VEVENT
BEGIN:VEVENT
DTSTART;TZID=UTC:20210921T100000
DTEND;TZID=UTC:20210921T120000
DTSTAMP:20260425T134833
CREATED:20210813T160729Z
LAST-MODIFIED:20210813T160729Z
UID:4087-1632218400-1632225600@padefense.org
SUMMARY:MOTOR VEHICLE COMMITTEE MEETING
DESCRIPTION:
URL:https://padefense.org/event/motor-vehicle-committee-meeting/
CATEGORIES:Committee
END:VEVENT
BEGIN:VEVENT
DTSTART;TZID=UTC:20210907T100000
DTEND;TZID=UTC:20210907T120000
DTSTAMP:20260425T134833
CREATED:20210813T160641Z
LAST-MODIFIED:20210813T160641Z
UID:4085-1631008800-1631016000@padefense.org
SUMMARY:PDI WOMEN & DIVERSITY COMMITTEE MEETING
DESCRIPTION:
URL:https://padefense.org/event/pdi-women-diversity-committee-meeting/
CATEGORIES:Committee
END:VEVENT
BEGIN:VEVENT
DTSTART;TZID=UTC:20210831T100000
DTEND;TZID=UTC:20210831T120000
DTSTAMP:20260425T134833
CREATED:20210813T160546Z
LAST-MODIFIED:20210813T160546Z
UID:4083-1630404000-1630411200@padefense.org
SUMMARY:PDI LEGISLATIVE COMMITTEE MEETING
DESCRIPTION:
URL:https://padefense.org/event/pdi-legislative-committee-meeting/
CATEGORIES:Committee
END:VEVENT
BEGIN:VEVENT
DTSTART;TZID=UTC:20210830T100000
DTEND;TZID=UTC:20210830T120000
DTSTAMP:20260425T134833
CREATED:20210813T160451Z
LAST-MODIFIED:20210813T160451Z
UID:4081-1630317600-1630324800@padefense.org
SUMMARY:PDI WORKERS' COMPENSATION COMMITTEE MEETING
DESCRIPTION:
URL:https://padefense.org/event/pdi-workers-compensation-committee-meeting/
CATEGORIES:Committee
END:VEVENT
BEGIN:VEVENT
DTSTART;TZID=UTC:20210826T100000
DTEND;TZID=UTC:20210826T120000
DTSTAMP:20260425T134833
CREATED:20210813T160348Z
LAST-MODIFIED:20210813T160348Z
UID:4079-1629972000-1629979200@padefense.org
SUMMARY:PDI GENERAL LIABILITY COMMITTEE MEETING
DESCRIPTION:
URL:https://padefense.org/event/pdi-general-liability-committee-meeting/
CATEGORIES:Committee
END:VEVENT
BEGIN:VEVENT
DTSTART;TZID=UTC:20210825T100000
DTEND;TZID=UTC:20210825T120000
DTSTAMP:20260425T134833
CREATED:20210813T153552Z
LAST-MODIFIED:20210813T153552Z
UID:4050-1629885600-1629892800@padefense.org
SUMMARY:PDI BOARD MEETING
DESCRIPTION:PDI Board Meeting will be held on Zoom.  Connection information will be provided closer to the meeting
URL:https://padefense.org/event/pdi-board-meeting-4/
LOCATION:Zoom Meeting
CATEGORIES:Board Meeting
END:VEVENT
BEGIN:VEVENT
DTSTART;TZID=UTC:20210824T120000
DTEND;TZID=UTC:20210824T130000
DTSTAMP:20260425T134833
CREATED:20210614T170138Z
LAST-MODIFIED:20210804T164517Z
UID:4023-1629806400-1629810000@padefense.org
SUMMARY:PDI LUNCH TIME WEBINAR - AUGUST 24\, 2021 - NEW ISSUES AND CASE LAW RELATED TO "FORUM NON-CONVENIENS"
DESCRIPTION:Robert Palumbus\, Esquire of Duane Morris will provide a Webinar presentation regarding the important issues and new cases related to the issue of “Foreign Non-Conveniens”  Do not miss this important topic and presentation to assist in countering the issues created by parties forum shopping and the inconvenience caused to litigants and witnesses.  Registration and other information has been provided via EMail Notice.  Be on the lookout for this important information. \nDownload the Paper Registration Form Here >> \nRegister Online
URL:https://padefense.org/event/pdi-lunch-time-webinar-august-24-2021-new-issues-and-case-law-related-to-forum-non-conveniens/
CATEGORIES:Webinar
END:VEVENT
BEGIN:VEVENT
DTSTART;TZID=UTC:20210715T080000
DTEND;TZID=UTC:20210715T170000
DTSTAMP:20260425T134833
CREATED:20210211T193403Z
LAST-MODIFIED:20210211T193403Z
UID:3929-1626336000-1626368400@padefense.org
SUMMARY:PDI ANNUAL CLE AND CONFERENCE - JULY 14\, 15\, 16\, 2021 @ OMNI BEDFORD SPRINGS RESORT
DESCRIPTION:PDI Annual CLE and Conference is scheduled for July 14\, 15\, 16\, 2021 at the beautiful and historic Omni Bedford Springs Resort\, Bedford\, Pennsylvania.  This is shaping up to be another fantastic CLE and Social experience.  it is intended to be live at the Resort with all COVID precautions taken.  This will be an ideal time to get out into the fresh air and experience the facilities at the Omni Bedford Springs Resort and to obtain CLE credits on current topics from excellent speakers.  Plan on attending.  Registration information will be coming out in the near future.
URL:https://padefense.org/event/pdi-annual-cle-and-conference-july-14-15-16-2021-omni-bedford-springs-resort/
CATEGORIES:Board Meeting,Social Event,Webinar
END:VEVENT
BEGIN:VEVENT
DTSTART;TZID=UTC:20210714T180000
DTEND;TZID=UTC:20210714T203000
DTSTAMP:20260425T134833
CREATED:20210211T194138Z
LAST-MODIFIED:20210211T194138Z
UID:3936-1626285600-1626294600@padefense.org
SUMMARY:PDI BOARD MEETING AT ANNUAL CONFERENCE
DESCRIPTION:
URL:https://padefense.org/event/pdi-board-meeting-at-annual-conference/
CATEGORIES:Board Meeting,Social Event
END:VEVENT
BEGIN:VEVENT
DTSTART;TZID=UTC:20210714T150000
DTEND;TZID=UTC:20210714T170000
DTSTAMP:20260425T134833
CREATED:20210211T194023Z
LAST-MODIFIED:20210211T194023Z
UID:3934-1626274800-1626282000@padefense.org
SUMMARY:PDI ANNUAL CLE AND CONFERENCE - JULY 14\, 15\, 16\, 2021 @ OMNI BEDFORD SPRINGS RESORT
DESCRIPTION:PDI Annual CLE and Conference is scheduled for July 14\, 15\, 16\, 2021 at the beautiful and historic Omni Bedford Springs Resort\, Bedford\, Pennsylvania.  This is shaping up to be another fantastic CLE and Social experience.  it is intended to be live at the Resort with all COVID precautions taken.  This will be an ideal time to get out into the fresh air and experience the facilities at the Omni Bedford Springs Resort and to obtain CLE credits on current topics from excellent speakers.  Plan on attending.  Registration information will be coming out in the near future.
URL:https://padefense.org/event/pdi-annual-cle-and-conference-july-14-15-16-2021-omni-bedford-springs-resort-3/
CATEGORIES:Board Meeting,Social Event,Webinar
END:VEVENT
BEGIN:VEVENT
DTSTART;VALUE=DATE:20210714
DTEND;VALUE=DATE:20210717
DTSTAMP:20260425T134833
CREATED:20210211T193532Z
LAST-MODIFIED:20210505T131015Z
UID:3932-1626220800-1626479999@padefense.org
SUMMARY:PDI ANNUAL CLE AND CONFERENCE - JULY 14\, 15\, 16\, 2021 @ OMNI BEDFORD SPRINGS RESORT
DESCRIPTION:2021 PDI Annual CLE and Conference\n July 14\, 15\, 16\, 2021 at the beautiful and historic Omni Bedford Springs Resort\, Bedford\, Pennsylvania. \nThis is shaping up to be another fantastic CLE and Social experience.  it is intended to be live at the Resort with all COVID precautions taken.  This will be an ideal time to get out into the fresh air and experience the facilities at the Omni Bedford Springs Resort and to obtain CLE credits on current topics from excellent speakers.  Plan on attending. \nDownload the Event Brochure\nRegister Online
URL:https://padefense.org/event/pdi-annual-cle-and-conference-july-14-15-16-2021-omni-bedford-springs-resort-2/
LOCATION:Omni Hotels & Resorts\, 2138 Business 220\, Bedford\, PA\, 15522\, United States
CATEGORIES:Board Meeting,Social Event,Webinar
END:VEVENT
BEGIN:VEVENT
DTSTART;TZID=UTC:20210701T080000
DTEND;TZID=UTC:20210701T170000
DTSTAMP:20260425T134833
CREATED:20210614T171341Z
LAST-MODIFIED:20210614T171341Z
UID:4027-1625126400-1625158800@padefense.org
SUMMARY:WIDENER COMMONWEALTH LAW SCHOOL - 2021 SUMMER/FALL RECRUITMENT PROGRAM
DESCRIPTION:Widener-Commonwealth School of Law Summer/Fall Recruitment Program.  This program provides employers the opportunity to interview students for summer and post-graduate employment opportunities.  It is a pre-screened interview program and takes place on campus.  The Career Development Office will advertise the employer’s position\, collect resumes from interested candidates and provide a room for you to conduct interviews on campus.  The Employer registration ending July 16\, 2021 and view student applications beginning August 4\, 2021 with on-line interview selections due on August 13\, 2021.  For more information contact Eden Mandrell\, Assistant Dean\, Career Development @[717] 541-3958 or via email at cdocwlaw@widener.edu .
URL:https://padefense.org/event/widener-commonwealth-law-school-2021-summer-fall-recruitment-program/
CATEGORIES:General
END:VEVENT
BEGIN:VEVENT
DTSTART;TZID=UTC:20210624T120000
DTEND;TZID=UTC:20210624T130000
DTSTAMP:20260425T134833
CREATED:20210512T170443Z
LAST-MODIFIED:20210607T124309Z
UID:4004-1624536000-1624539600@padefense.org
SUMMARY:PDI LUNCH TIME WEBINAR - POST COVID-19 CIVIL COURT PROCEDURES
DESCRIPTION:Peter J. Divon\, Director of Discovery Court Unit and the Dispute Resolution Center for First Judicial District of Pennsylvania\, Emily Rogers\, Esquire and Meaghann Porth\, Esquire\, both from Campbell\, Conroy & O’Neil\, will discuss the Post Covid-19 Civil Court Procedures in Philadelphia County that have been implemented since the re-opening of the Court following the COVID pandemic crisis.\n\n\n\n\n\n\n\n\n\n\n\n\n\n\n\n\n\n\n\n\n\n\n\n[one_third_first] [ls_button color=”blue” url=”http://padefense.org/wp-content/uploads/2021/05/REGISTRATION-FORM-PHILA-CO-1.docx” title=”themes” icon_left=”” target=”_blank” size=”medium” display=”block”]Download Registration[/ls_button][/one_third_first][one_third] [/one_third][one_third_last][/one_third_last]\n\n\nRegister Online
URL:https://padefense.org/event/pdi-lunch-time-webinar-post-covid-19-civil-court-procedures/
CATEGORIES:Webinar
END:VEVENT
BEGIN:VEVENT
DTSTART;TZID=UTC:20210615T100000
DTEND;TZID=UTC:20210615T110000
DTSTAMP:20260425T134833
CREATED:20210111T200913Z
LAST-MODIFIED:20210111T200913Z
UID:3899-1623751200-1623754800@padefense.org
SUMMARY:PDI Board Meeting
DESCRIPTION:
URL:https://padefense.org/event/pdi-board-meeting/
CATEGORIES:Board Meeting
END:VEVENT
BEGIN:VEVENT
DTSTART;TZID=UTC:20210526T120000
DTEND;TZID=UTC:20210526T133000
DTSTAMP:20260425T134833
CREATED:20210506T205404Z
LAST-MODIFIED:20231016T115858Z
UID:3988-1622030400-1622035800@padefense.org
SUMMARY:PDI EAST DISTRICT LUNCH TIME WEBINAR - "Building Envelope Issues"
DESCRIPTION:This webinar will describe what a building envelope is and its purpose from an engineering and legal perspective. There will be a discussion of the various types of building envelopes with a wrap up discussion and conclusions based upon the engineering and legal analysis of the issues involved in such cases.\n\n\n>> Download The PDF Registration
URL:https://padefense.org/event/pdi-east-district-lunch-time-webinar-building-envelope-issues/
CATEGORIES:Webinar
END:VEVENT
BEGIN:VEVENT
DTSTART;TZID=UTC:20210518T120000
DTEND;TZID=UTC:20210518T130000
DTSTAMP:20260425T134833
CREATED:20210422T161702Z
LAST-MODIFIED:20210422T161702Z
UID:3974-1621339200-1621342800@padefense.org
SUMMARY:PDI INSURANCE COVERAGE & SUBROGATION COMMITTEE VIRTUAL "GALLAGHER" ROUNDTABLE
DESCRIPTION:The PDI Insurance Coverage & Subrogation Committee will be presenting a roundtable discussion to provide current information to committee members and to provide a forum to share information concerning the “Gallagher” decision regarding the applicability of the household exclusion\, including its impact and limitations.  The roundtable discussion will be led by Co-Chair\, Daniel Twilla\, Esquire\, Burns White\, and Bryan Shay\, Esquire\, Post & Schell.  Dan and Bryan will moderate an active discussion with PDI committee members that will give members the opportunity to openly discuss the issues and arguments and to conference with colleagues regarding the status of related appeals.  Please plan on attending and participating in this important discussion regarding the current status of claims related to the important “Gallagher” decision.
URL:https://padefense.org/event/pdi-insurance-coverage-subrogation-committee-virtual-gallagher-roundtable/
CATEGORIES:Committee Roundtable
END:VEVENT
BEGIN:VEVENT
DTSTART;TZID=UTC:20210511T120000
DTEND;TZID=UTC:20210511T150000
DTSTAMP:20260425T134833
CREATED:20210507T164714Z
LAST-MODIFIED:20210507T164714Z
UID:3998-1620734400-1620745200@padefense.org
SUMMARY:PDI POST-COVID 19 CIVIL COURT PROCEDURES SURVEY AND DISCUSSION MEETING
DESCRIPTION:PDI has been requested by a special committee made up of judges from around the Commonwealth to provide input on what virtual procedures used during the COVID pandemic should be carried over into the post-COVID era.  This meeting is scheduled to allow PDI Members to have input in what they believe would be appropriate procedures to continue virtually into the future.  PDI Members are invited to attend this meeting a voice their opinions and discuss what recommendations PDI will provide the the committee.  Your input is important.
URL:https://padefense.org/event/pdi-post-covid-19-civil-court-procedures-survey-and-discussion-meeting/
CATEGORIES:Survey and Discussion Meeting
END:VEVENT
BEGIN:VEVENT
DTSTART;TZID=UTC:20210507T090000
DTEND;TZID=UTC:20210507T103000
DTSTAMP:20260425T134833
CREATED:20210506T205131Z
LAST-MODIFIED:20210506T205131Z
UID:3986-1620378000-1620383400@padefense.org
SUMMARY:PDI EXECUTIVE COMMITTEE MEETING - VIA ZOOM
DESCRIPTION:
URL:https://padefense.org/event/pdi-executive-committee-meeting-via-zoom/
CATEGORIES:Executive Committee Meeting
END:VEVENT
BEGIN:VEVENT
DTSTART;TZID=UTC:20210504T120000
DTEND;TZID=UTC:20210504T130000
DTSTAMP:20260425T134833
CREATED:20210422T161441Z
LAST-MODIFIED:20210422T161441Z
UID:3972-1620129600-1620133200@padefense.org
SUMMARY:PDI INSURANCE COVERAGE & SUBROGATION COMMITTEE VIRTUAL COVID 19 BI ROUNDTABLE
DESCRIPTION:The PDI Insurance Coverage & Subrogation Committee will be holding a roundtable discussion to provide current information to committee members and to provide a forum to share information concerning this very important and timely topic.   The roundtable discussion will be led by Co-Chair\, Daniel Twilla\, Esquire\, Burns White\, and Scott Rybny\, Esquire\, Morgan & Akins. Dan and Scott will moderate an active discussion with PDI committee members of the recent decisions in Pennsylvania in the COVID 19 BI litigation.  This one hour forum will give members the opportunity to openly discuss not just the emerging trends and arguments\, but also to help prepare for the inevitable intervention by Pennsylvania’s appellate courts.  Please plan on attending and participating in this important discussion regarding the current status of claims related to COVID 19.
URL:https://padefense.org/event/pdi-insurance-coverage-subrogation-committee-virtual-covid-19-bi-roundtable/
CATEGORIES:Committee Roundtable
END:VEVENT
BEGIN:VEVENT
DTSTART;TZID=UTC:20210430T080000
DTEND;TZID=UTC:20210430T103000
DTSTAMP:20260425T134833
CREATED:20210506T211214Z
LAST-MODIFIED:20210506T211214Z
UID:3996-1619769600-1619778600@padefense.org
SUMMARY:PDI MID-YEAR PRODUCTS LIABILITY COMMITTEE MEETING
DESCRIPTION:
URL:https://padefense.org/event/pdi-mid-year-products-liability-committee-meeting/
CATEGORIES:Committee Round Table
END:VEVENT
BEGIN:VEVENT
DTSTART;TZID=UTC:20210428T150000
DTEND;TZID=UTC:20210428T160000
DTSTAMP:20260425T134833
CREATED:20210506T210959Z
LAST-MODIFIED:20210506T210959Z
UID:3994-1619622000-1619625600@padefense.org
SUMMARY:CIVIL PRETRIAL PRACTICE PLANNING COMMITTEE
DESCRIPTION:
URL:https://padefense.org/event/civil-pretrial-practice-planning-committee/
CATEGORIES:Committee
END:VEVENT
BEGIN:VEVENT
DTSTART;TZID=UTC:20210415T144500
DTEND;TZID=UTC:20210415T180000
DTSTAMP:20260425T134833
CREATED:20210128T162526Z
LAST-MODIFIED:20210312T203616Z
UID:3920-1618497900-1618509600@padefense.org
SUMMARY:APRIL 15\, 2021- PDI PROFESSIONAL LIABILITY COMMITTEE AND THE PENNSYLVANIA ASSOCIATION FOR HEALTH CARE RISK MANAGEMENT (PAHCRM) JOINT WEBINAR
DESCRIPTION:PDI Professional Liability Committee Chair\, Matthew Keris\, Esquire\, Marshall\, Dennehey\, Warner\, Coleman & Goggin\, and the Pennsylvania Association for Health Care Risk Management (PAHCRM) will jointly present a 2 hour/2 CLE Credit Webinar and Virtual Social Hour on April 15\, 2021.  The speakers include:  Jennifer Reed\, PAHCRM President; Brigitta Mueller\, MD\, MHCM\, MSJ\, COP\, CPPS\, SPHQ\, FAAP\, ECRI; Robert Aldrich\, Esquire\, Marshall\, Dennehey\, Warner\, Coleman & Goggin.  This CLE will be followed by a Virtual Happy Hour. \nDownload Registration PDF \nOnline Registration
URL:https://padefense.org/event/coming-soon-pdi-professional-liability-committee-and-the-pennsylvania-association-for-health-care-risk-management-pahcrm-joint-webinar/
CATEGORIES:Social Event,Webinar
END:VEVENT
BEGIN:VEVENT
DTSTART;TZID=UTC:20210415T100000
DTEND;TZID=UTC:20210415T110000
DTSTAMP:20260425T134833
CREATED:20210111T201000Z
LAST-MODIFIED:20210111T201000Z
UID:3901-1618480800-1618484400@padefense.org
SUMMARY:PDI Board Meeting
DESCRIPTION:
URL:https://padefense.org/event/pdi-board-meeting-2/
CATEGORIES:Board Meeting
END:VEVENT
BEGIN:VEVENT
DTSTART;TZID=UTC:20210414T130000
DTEND;TZID=UTC:20210414T153000
DTSTAMP:20260425T134833
CREATED:20210506T210655Z
LAST-MODIFIED:20210506T210655Z
UID:3992-1618405200-1618414200@padefense.org
SUMMARY:PDI ANNUAL CONFERENCE COMMITTEE MEETING AT BEDFORD SPRINGS
DESCRIPTION:
URL:https://padefense.org/event/pdi-annual-conference-committee-meeting-at-bedford-springs/
CATEGORIES:Committee
END:VEVENT
BEGIN:VEVENT
DTSTART;TZID=UTC:20210409T100000
DTEND;TZID=UTC:20210409T100000
DTSTAMP:20260425T134833
CREATED:20210312T230419Z
LAST-MODIFIED:20210312T230419Z
UID:3961-1617962400-1617962400@padefense.org
SUMMARY:PDI WOMEN & DIVERSITY COMMITTEE VIRTUAL MEETING
DESCRIPTION:
URL:https://padefense.org/event/pdi-women-diversity-committee-virtual-meeting/
CATEGORIES:Committee
END:VEVENT
BEGIN:VEVENT
DTSTART;TZID=UTC:20210407T100000
DTEND;TZID=UTC:20210407T110000
DTSTAMP:20260425T134833
CREATED:20210312T230316Z
LAST-MODIFIED:20210312T230316Z
UID:3959-1617789600-1617793200@padefense.org
SUMMARY:PDI EMPLOYMENT & CIVIL RIGHTS COMMITTEE VIRTUAL MEETING
DESCRIPTION:
URL:https://padefense.org/event/pdi-employment-civil-rights-committee-virtual-meeting/
CATEGORIES:Committee
END:VEVENT
BEGIN:VEVENT
DTSTART;TZID=UTC:20210405T160000
DTEND;TZID=UTC:20210405T170000
DTSTAMP:20260425T134833
CREATED:20210506T210347Z
LAST-MODIFIED:20210506T210347Z
UID:3990-1617638400-1617642000@padefense.org
SUMMARY:PDI CIVIL PRACTICE AND PROCEDURE COMMITTEE MEETING
DESCRIPTION:
URL:https://padefense.org/event/pdi-civil-practice-and-procedure-committee-meeting/
CATEGORIES:Committee
END:VEVENT
END:VCALENDAR