BEGIN:VCALENDAR
VERSION:2.0
PRODID:-//The Pennsylvania Defense Institute - ECPv6.15.20//NONSGML v1.0//EN
CALSCALE:GREGORIAN
METHOD:PUBLISH
X-ORIGINAL-URL:https://padefense.org
X-WR-CALDESC:Events for The Pennsylvania Defense Institute
REFRESH-INTERVAL;VALUE=DURATION:PT1H
X-Robots-Tag:noindex
X-PUBLISHED-TTL:PT1H
BEGIN:VTIMEZONE
TZID:UTC
BEGIN:STANDARD
TZOFFSETFROM:+0000
TZOFFSETTO:+0000
TZNAME:UTC
DTSTART:20250101T000000
END:STANDARD
END:VTIMEZONE
BEGIN:VEVENT
DTSTART;TZID=UTC:20260529T080000
DTEND;TZID=UTC:20260529T130000
DTSTAMP:20260424T203305
CREATED:20260324T162418Z
LAST-MODIFIED:20260324T162418Z
UID:5221-1780041600-1780059600@padefense.org
SUMMARY:PDI/PAJ TRIAL ACADEMY - DAY 2
DESCRIPTION:Pennsylvania Supreme Court Justice P. Kevin Brobson and Justice Kevin Dougherty will speak to the registrants followed by discussion and group sessions related to expert direct and cross examination and closing statements.  The Academy will conclude with a session of self assessment and questions and answers.
URL:https://padefense.org/event/pdi-paj-trial-academy-day-2/
CATEGORIES:Continuing Legal Education
END:VEVENT
BEGIN:VEVENT
DTSTART;TZID=UTC:20260617T100000
DTEND;TZID=UTC:20260617T120000
DTSTAMP:20260424T203305
CREATED:20250827T175906Z
LAST-MODIFIED:20250827T175906Z
UID:5063-1781690400-1781697600@padefense.org
SUMMARY:PDI EXECUTIVE COMMITTEE MEETING
DESCRIPTION:
URL:https://padefense.org/event/pdi-executive-committee-meeting-21/
CATEGORIES:Executive Committee Meeting
END:VEVENT
BEGIN:VEVENT
DTSTART;TZID=UTC:20260729T180000
DTEND;TZID=UTC:20260729T200000
DTSTAMP:20260424T203305
CREATED:20250827T175216Z
LAST-MODIFIED:20250827T175216Z
UID:5049-1785348000-1785355200@padefense.org
SUMMARY:PDI BOARD MEETING AT ANNUAL CLE & CONFERENCE - OMNI BEDFORD SPRINGS RESORT
DESCRIPTION:
URL:https://padefense.org/event/pdi-board-meeting-at-annual-cle-conference-omni-bedford-springs-resort/
CATEGORIES:Board Meeting
END:VEVENT
BEGIN:VEVENT
DTSTART;TZID=UTC:20260730T080000
DTEND;TZID=UTC:20260730T170000
DTSTAMP:20260424T203305
CREATED:20250827T175314Z
LAST-MODIFIED:20250827T175314Z
UID:5051-1785398400-1785430800@padefense.org
SUMMARY:PDI ANNUAL CLE & CONFERENCE
DESCRIPTION:
URL:https://padefense.org/event/pdi-annual-cle-conference-4/
CATEGORIES:Annual Conference
END:VEVENT
BEGIN:VEVENT
DTSTART;TZID=UTC:20260731T080000
DTEND;TZID=UTC:20260731T120000
DTSTAMP:20260424T203305
CREATED:20250827T175412Z
LAST-MODIFIED:20250827T175412Z
UID:5053-1785484800-1785499200@padefense.org
SUMMARY:PDI ANNUAL CLE & CONFERENCE @ OMNI BEDFORD SPRINGS RESORT
DESCRIPTION:
URL:https://padefense.org/event/pdi-annual-cle-conference-omni-bedford-springs-resort/
CATEGORIES:Annual Conference
END:VEVENT
END:VCALENDAR