BEGIN:VCALENDAR
VERSION:2.0
PRODID:-//The Pennsylvania Defense Institute - ECPv6.15.20//NONSGML v1.0//EN
CALSCALE:GREGORIAN
METHOD:PUBLISH
X-WR-CALNAME:The Pennsylvania Defense Institute
X-ORIGINAL-URL:https://padefense.org
X-WR-CALDESC:Events for The Pennsylvania Defense Institute
REFRESH-INTERVAL;VALUE=DURATION:PT1H
X-Robots-Tag:noindex
X-PUBLISHED-TTL:PT1H
BEGIN:VTIMEZONE
TZID:UTC
BEGIN:STANDARD
TZOFFSETFROM:+0000
TZOFFSETTO:+0000
TZNAME:UTC
DTSTART:20230101T000000
END:STANDARD
END:VTIMEZONE
BEGIN:VEVENT
DTSTART;TZID=UTC:20240213T120000
DTEND;TZID=UTC:20240213T133000
DTSTAMP:20260426T040338
CREATED:20240125T183539Z
LAST-MODIFIED:20240125T183539Z
UID:4658-1707825600-1707831000@padefense.org
SUMMARY:PDI PRODUCTS LIABILITY COMMITTEE ROUNDTABLE/TOWNHALL MEETING - SULLIVAN V. WERNER CO. DISCUSSION
DESCRIPTION:  \nPlan to participate in the Products Liability Committee Roundtable/Townhall Meeting for an important discussion of the recent Supreme Court Decision in Sullivan v. Werner Co. in which a divided Court has concluded that “a product’s compliance with governmental regulations or industry standards is inadmissible in design defect cases to show a product is not defective under the risk-utility theory.”  This is a very important opinion that all defense attorneys participating in the defense of a products liability case should be aware and what can be done in defending these cases. \nAs a result of the Sullivan opinion\, the PDI Products Liability Committee has been working on alerting the PDI members and members of their firms that are involved in Products cases of the current situation and to provide information to assist in handling these matters in the future.  In order to provide initial information\, the PDI Products Liability Committee had prepared a Memorandum that was attached to a previous email and again attached to this email.  Please read the Memorandum and pass it on to any attorneys in your firm that are handling a products liability matter.  \nThe second activity in alerting the membership and members of their firms is to present a Roundtable/Townhall Meeting to discuss the case\, its ramifications\, and possible tactics and solutions to level the playing field.  That Roundtable/Townhall Meeting will take place on Tuesday\, February 13\, 2024 @ 12:00 p.m. via Zoom.  Although the meeting will be hosted by the PDI Products Liability Committee\, it will be an open mike session to allow other thoughts and opinions to be discussed.  Please alert members of your firms who have products liability cases\, even those who handle such cases on a random basis\, of this meeting and mark your calendars\, plan to attend. Registration information is below  \nREGISTRATION AND PAYMENT METHODS: \n  \n__________    Email your request to attend to cwasilefski@padefense.org or lgamby@padefense.org . \n  \n__________    Register online https://us06web.zoom.us/meeting/register/tZEkduurrDssHtR8g12bVeookmdRBTc-GAmS
URL:https://padefense.org/event/pdi-products-liability-committee-roundtable-townhall-meeting-sullivan-v-werner-co-discussion/
CATEGORIES:Committee Roundtable
END:VEVENT
BEGIN:VEVENT
DTSTART;TZID=UTC:20240215T100000
DTEND;TZID=UTC:20240215T113000
DTSTAMP:20260426T040338
CREATED:20230922T172155Z
LAST-MODIFIED:20230922T172155Z
UID:4565-1707991200-1707996600@padefense.org
SUMMARY:PDI EXECUTIVE COMMITTEE MEETING
DESCRIPTION:
URL:https://padefense.org/event/pdi-executive-committee-meeting-9/
CATEGORIES:Executive Committee Meeting
END:VEVENT
BEGIN:VEVENT
DTSTART;TZID=UTC:20240227T120000
DTEND;TZID=UTC:20240227T130000
DTSTAMP:20260426T040338
CREATED:20240105T154811Z
LAST-MODIFIED:20240118T191147Z
UID:4641-1709035200-1709038800@padefense.org
SUMMARY:PDI LUNCH TIME WEBINAR - TUESDAY\, FEBRUARY 27\, 2024 @ 12:00 P.M. VIA ZOOM - "The Advantages of Utilizing Matterport for Demonstrative Evidence"
DESCRIPTION:PDI Lunch Time Webinar\, in conjunction with CED Technologies Inc.\, and organizer Gavin D. O’Hare\, Director of Business Development will present a very interesting live Webinar that will provide information regarding technology for the use as evidence to prove your case.  In the realm of legal proceedings\, the effective presentation of evidence is crucial to building a compelling case.  Traditional methods of conveying information in courtrooms in courtrooms have evolved with technological advancements\, and one such innovation that has significantly impacted the legal landscape is Matterport.  Matterport is a cutting-edge technology that allows for the creation of immersive 3D models and virtual tours\, offering a range of benefits for presenting demonstrative evidence in legal settings. \nMatterport provides:  Enhanced Visualization and Understanding; Increased Engagement and Attention; Time and Cost Efficiency; Remote Accessibility; and Objectivity and Consistency. \nThe integration of Matterport into legal proceedings as a tool for presenting demonstrative evidence heralds a new era of efficiency\, engagement and objectivity.  Its ability to create immersive 3D models enhances the visualization of complex scenarios\, while its cost-effective and remote accessibility features make it a practical choice for modern legal practices.  As technology continues to advance\, leveraging innovative tools like Matterport will likely become a standard practice in enhancing the efficacy of legal presentations and ensuring a fair and thorough examination of evidence. \nMark your calendars and plan on attending this important discussion of new technologies for the use in the courtroom.  REGISTER NOW!!!
URL:https://padefense.org/event/pdi-lunch-time-webinar-tuesday-february-27-2024-1200-p-m-via-zoom-the-advantages-of-utilizing-matterport-for-demonstrative-evidence/
LOCATION:Zoom Meeting
CATEGORIES:Webinar
END:VEVENT
BEGIN:VEVENT
DTSTART;TZID=UTC:20240227T120000
DTEND;TZID=UTC:20240227T133000
DTSTAMP:20260426T040338
CREATED:20240215T010730Z
LAST-MODIFIED:20240215T010934Z
UID:4672-1709035200-1709040600@padefense.org
SUMMARY:PDI EAST DISTRICT LAW STUDENT ROUNDTABLE ON DEFENSE CAREER -TEMPLE LAW SCHOOL
DESCRIPTION:PDI and PADC will provide a panel of defense attorneys to meet with and discuss the opportunities in the defense of civil lawsuits with law students at Temple Law School.  Pizza and refreshments will be provided.
URL:https://padefense.org/event/pdi-east-district-law-student-roundtable-on-defense-career-temple-law-school/
CATEGORIES:Law Student Conference
END:VEVENT
END:VCALENDAR