BEGIN:VCALENDAR
VERSION:2.0
PRODID:-//The Pennsylvania Defense Institute - ECPv6.15.20//NONSGML v1.0//EN
CALSCALE:GREGORIAN
METHOD:PUBLISH
X-ORIGINAL-URL:https://padefense.org
X-WR-CALDESC:Events for The Pennsylvania Defense Institute
REFRESH-INTERVAL;VALUE=DURATION:PT1H
X-Robots-Tag:noindex
X-PUBLISHED-TTL:PT1H
BEGIN:VTIMEZONE
TZID:UTC
BEGIN:STANDARD
TZOFFSETFROM:+0000
TZOFFSETTO:+0000
TZNAME:UTC
DTSTART:20230101T000000
END:STANDARD
END:VTIMEZONE
BEGIN:VEVENT
DTSTART;TZID=UTC:20240710T180000
DTEND;TZID=UTC:20240710T203000
DTSTAMP:20260425T211646
CREATED:20230922T172709Z
LAST-MODIFIED:20230922T172709Z
UID:4575-1720634400-1720643400@padefense.org
SUMMARY:PDI BOARD MEETING AND ANNUAL CLE AND CONFERENCE
DESCRIPTION:
URL:https://padefense.org/event/pdi-board-meeting-and-annual-cle-and-conference/
CATEGORIES:Board Meeting
END:VEVENT
BEGIN:VEVENT
DTSTART;TZID=UTC:20240711T080000
DTEND;TZID=UTC:20240711T230000
DTSTAMP:20260425T211646
CREATED:20230922T172816Z
LAST-MODIFIED:20240510T121335Z
UID:4577-1720684800-1720738800@padefense.org
SUMMARY:PDI ANNUAL CLE AND CONFERENCE - OMNI BEDFORD SPRINGS RESORT
DESCRIPTION:>> Download The PDF Registration
URL:https://padefense.org/event/pdi-annual-cle-and-conference-omni-bedford-springs/
CATEGORIES:Annual Conference
END:VEVENT
BEGIN:VEVENT
DTSTART;TZID=UTC:20240712T080000
DTEND;TZID=UTC:20240712T120000
DTSTAMP:20260425T211646
CREATED:20230922T172924Z
LAST-MODIFIED:20230922T172924Z
UID:4579-1720771200-1720785600@padefense.org
SUMMARY:PDI ANNUAL CLE AND CONFERENCE - OMNI BEDFORD SPRINGS RESORT
DESCRIPTION:
URL:https://padefense.org/event/pdi-annual-cle-and-conference-omni-bedford-springs-resort/
CATEGORIES:Annual Conference
END:VEVENT
END:VCALENDAR